BEGIN:VCALENDAR
VERSION:2.0
PRODID:-//Solární asociace - ECPv6.8.2.1//NONSGML v1.0//EN
CALSCALE:GREGORIAN
METHOD:PUBLISH
X-WR-CALNAME:Solární asociace
X-ORIGINAL-URL:https://solarniasociace.cz
X-WR-CALDESC:Akce na Solární asociace
REFRESH-INTERVAL;VALUE=DURATION:PT1H
X-Robots-Tag:noindex
X-PUBLISHED-TTL:PT1H
BEGIN:VTIMEZONE
TZID:Europe/Prague
BEGIN:DAYLIGHT
TZOFFSETFROM:+0100
TZOFFSETTO:+0200
TZNAME:CEST
DTSTART:20270330T010000
END:DAYLIGHT
BEGIN:STANDARD
TZOFFSETFROM:+0200
TZOFFSETTO:+0100
TZNAME:CET
DTSTART:20271026T010000
END:STANDARD
END:VTIMEZONE
BEGIN:VEVENT
DTSTART;TZID=Europe/Prague:20250528T080000
DTEND;TZID=Europe/Prague:20250528T170000
DTSTAMP:20260420T200642
CREATED:20250424T214541Z
LAST-MODIFIED:20250428T170109Z
UID:1183-1748419200-1748451600@solarniasociace.cz
SUMMARY:RE+ Eastern Europe
DESCRIPTION:Buďte součástí rostoucího trhu solární energie!\\nZajímáte se o solární energii a akumulaci? Chcete navázat nové obchodní kontakty a dozvědět se o nejnovějších trendech? Pak si nenechte ujít RE+ Eastern Europe – klíčovou událost pro energetický sektor ve východní Evropě!\\n📅 Kdy a kde?\\n📍 28.&nbsp\\;května 2025 – Bukurešť\\, Rumunsko\\n📍 30.&nbsp\\;května 2025 – Sofie\\, Bulharsko\\nCo vás čeká?\\n✅ Networking &amp\\; nové spolupráce – Spojte se s&nbsp\\;lídry trhu\\, investory a odborníky.\\n✅ Inspirativní program – Přednášky a diskuse o trendech\\, inovacích a budoucnosti trhu.\\n✅ Installer Awards – Ocenění firem a profesionálů\\, kteří posouvají energetickou transformaci vpřed.\\nRegistrace je otevřená! Zajistěte si své místo a využijte zvýhodněné ceny do 28.&nbsp\\;dubna 2025.\\nVíce informací a přihlášky najdete na re-plus.events.\\n
URL:https://solarniasociace.cz/akce/re-eastern-europe/
LOCATION:Bukurešť\\, Bukurešť\\, Rumunsko
ATTACH;FMTTYPE=image/webp:https://solarniasociace.cz/wp-content/uploads/2025/04/RE-Eastern-Europe_Industry-Partner_Czech-Solar-300x157.webp
END:VEVENT
END:VCALENDAR