BEGIN:VCALENDAR
VERSION:2.0
PRODID:-//Solární asociace - ECPv6.8.2.1//NONSGML v1.0//EN
CALSCALE:GREGORIAN
METHOD:PUBLISH
X-WR-CALNAME:Solární asociace
X-ORIGINAL-URL:https://solarniasociace.cz
X-WR-CALDESC:Akce na Solární asociace
REFRESH-INTERVAL;VALUE=DURATION:PT1H
X-Robots-Tag:noindex
X-PUBLISHED-TTL:PT1H
BEGIN:VTIMEZONE
TZID:Europe/Prague
BEGIN:DAYLIGHT
TZOFFSETFROM:+0100
TZOFFSETTO:+0200
TZNAME:CEST
DTSTART:20270330T010000
END:DAYLIGHT
BEGIN:STANDARD
TZOFFSETFROM:+0200
TZOFFSETTO:+0100
TZNAME:CET
DTSTART:20271026T010000
END:STANDARD
END:VTIMEZONE
BEGIN:VEVENT
DTSTART;TZID=Europe/Prague:20250528T183000
DTEND;TZID=Europe/Prague:20250528T220000
DTSTAMP:20260420T201912
CREATED:20250424T215356Z
LAST-MODIFIED:20250514T114143Z
UID:1187-1748457000-1748469600@solarniasociace.cz
SUMMARY:Slavnostní vyhlášení vítězů: Hrdinové moderní energetiky
DESCRIPTION:🗓 Datum: 28.&nbsp\\;května 2025\\n📍 Místo: Fórum Karlín\\, Praha\\n🔆 O události:\\nSlavnostní vyhlášení vítězů soutěže Hrdinové moderní energetiky\\, kterou pořádají Svaz moderní energetiky\\, Solární asociace a Aliance pro energetickou soběstačnost.\\nVečerem oslavíme inovativní solární projekty\\, které přispívají k&nbsp\\;udržitelnější a energeticky soběstačné budoucnosti ČR.\\n📢 Co vás čeká?\\n✅ Představení vítězných projektů a inspirativních řešení\\n✅ Účast předních osobností české energetiky\\n✅ Networking s&nbsp\\;odborníky a zástupci sektoru\\n✅ Slavnostní atmosféra a večerní program\\nPřipojte se k&nbsp\\;nám a buďte u toho\\, když oceňujeme inovace v&nbsp\\;oblasti moderní energetiky!\\nVíce informací o soutěži a nominacích 👉 ZDE.\\nTěšíme se na setkání!\\n
URL:https://solarniasociace.cz/akce/galavecer-vyhlaseni-vitezu-hrdinove-moderni-energetiky/
LOCATION:Forum Karlín\\, Forum Karlín\\, Pernerova\\, Karlín\\, Česko
ATTACH;FMTTYPE=image/webp:https://solarniasociace.cz/wp-content/uploads/2025/04/1452x756-300x156.webp
ORGANIZER;CN="Solární asociace":MAILTO:sekretariat@solarniasociace.cz
END:VEVENT
END:VCALENDAR