BEGIN:VCALENDAR
VERSION:2.0
PRODID:-//Solární asociace - ECPv6.8.2.1//NONSGML v1.0//EN
CALSCALE:GREGORIAN
METHOD:PUBLISH
X-WR-CALNAME:Solární asociace
X-ORIGINAL-URL:https://solarniasociace.cz
X-WR-CALDESC:Akce na Solární asociace
REFRESH-INTERVAL;VALUE=DURATION:PT1H
X-Robots-Tag:noindex
X-PUBLISHED-TTL:PT1H
BEGIN:VTIMEZONE
TZID:Europe/Prague
BEGIN:DAYLIGHT
TZOFFSETFROM:+0100
TZOFFSETTO:+0200
TZNAME:CEST
DTSTART:20270330T010000
END:DAYLIGHT
BEGIN:STANDARD
TZOFFSETFROM:+0200
TZOFFSETTO:+0100
TZNAME:CET
DTSTART:20271026T010000
END:STANDARD
END:VTIMEZONE
BEGIN:VEVENT
DTSTART;TZID=Europe/Prague:20250422T093000
DTEND;TZID=Europe/Prague:20250422T123000
DTSTAMP:20260420T230215
CREATED:20250424T220437Z
LAST-MODIFIED:20250424T220437Z
UID:1192-1745314200-1745325000@solarniasociace.cz
SUMMARY:Exkurze do Energy Nest a FVE Vepřek
DESCRIPTION:Vážení členové a přátelé Solární asociace\\,\\nsrdečně vás zveme na odbornou exkurzi se zástupci Solární asociace\\, která vás zavede do energetických řešení společnosti Decci. Využijte jedinečné příležitosti nahlédnout do světa moderních technologií a obnovitelných zdrojů!\\n\\nPROGRAM 🔆\\n⚡EXKURZE DO ENERGY NEST\\, MODERNÍHO ZDROJE ENERGIE\\nEnergy nest flexibilně reaguje na situaci v&nbsp\\;síti a přispívá k&nbsp\\;její stabilizaci. Chytře kombinuje plynové turbíny odvozené od leteckých motorů s&nbsp\\;bateriovým úložištěm a představuje alternativu k&nbsp\\;uhelným elektrárnám – dosud hlavním poskytovatelům služeb výkonové rovnováhy. Energy nest dosahuje celkového výkonu 52\\,4 MW a v&nbsp\\;současnosti poskytuje služby až do 30 MW regulačního výkonu. Díky na míru vyvinutému řídicímu systému dokáže setrvat v&nbsp\\;pohotovostním režimu s&nbsp\\;nulovou emisní stopou a bez zbytečné spotřeby paliva.\\n⚡PROHLÍDKA FVE VEPŘEK\\nFotovoltaická elektrárna Vepřek byla v&nbsp\\;době svého spuštění v&nbsp\\;roce 2010 devátou největší na světě. FVE Vepřek dosahuje celkového výkonu 35 MW. Do budoucna se počítá s&nbsp\\;propojením elektrárny s&nbsp\\;Energy nest a využitím přebytků energie k&nbsp\\;výrobě zeleného vodíku.\\n\\nDALŠÍ INFORMACE 🔆\\n\\nPočet účastníků je omezený\\, doporučujeme Vám proto včasnou registraci.\\nDoprava na exkurzi je vlastní.\\nRegistrace končí 18.&nbsp\\;dubna 2025 v&nbsp\\;15:00.\\nSvou účast prosím potvrďte pomocí registračního formuláře.\\nExkurze je určena pouze členům Solární asociace a je zdarma.\\n\\n\\nVíce informací v&nbsp\\;pozvánce ZDE.\\n
URL:https://solarniasociace.cz/akce/exkurze-do-energy-nest-a-fve-veprek/
LOCATION:Vraňany 245\\, Vraňany 245\\, Vraňany\\, Česko
ORGANIZER;CN="Solární asociace":MAILTO:sekretariat@solarniasociace.cz
END:VEVENT
END:VCALENDAR