BEGIN:VCALENDAR
VERSION:2.0
PRODID:-//Solární asociace - ECPv6.8.2.1//NONSGML v1.0//EN
CALSCALE:GREGORIAN
METHOD:PUBLISH
X-WR-CALNAME:Solární asociace
X-ORIGINAL-URL:https://solarniasociace.cz
X-WR-CALDESC:Akce na Solární asociace
REFRESH-INTERVAL;VALUE=DURATION:PT1H
X-Robots-Tag:noindex
X-PUBLISHED-TTL:PT1H
BEGIN:VTIMEZONE
TZID:Europe/Prague
BEGIN:DAYLIGHT
TZOFFSETFROM:+0100
TZOFFSETTO:+0200
TZNAME:CEST
DTSTART:20270330T010000
END:DAYLIGHT
BEGIN:STANDARD
TZOFFSETFROM:+0200
TZOFFSETTO:+0100
TZNAME:CET
DTSTART:20271026T010000
END:STANDARD
END:VTIMEZONE
BEGIN:VEVENT
DTSTART;TZID=Europe/Prague:20250320T100000
DTEND;TZID=Europe/Prague:20250320T140000
DTSTAMP:20260421T022105
CREATED:20250424T221404Z
LAST-MODIFIED:20250606T134656Z
UID:1197-1742464800-1742479200@solarniasociace.cz
SUMMARY:Konference v&nbsp\\;rámci veletrhu Amper: Aktuální trendy ve fotovoltaice a akumulaci
DESCRIPTION:Solární asociace pořádá odbornou konferenci v&nbsp\\;rámci veletrhu Amper 2025!\\nSrdečně vás zveme na odbornou konferenci\\, která se koná v&nbsp\\;rámci veletrhu Amper 2025! Tato jedinečná událost nabídne aktuální informace o nejnovějších trendech v&nbsp\\;oblasti fotovoltaiky\\, akumulace a souvisejících technologií.\\n📅 Datum: 20.&nbsp\\;března 2025\\n🕙 Čas: 10:00 – 14:00\\n📍 Místo: Konferenční sál Špilberk\\, Konferenční centrum BVV Brno\\nČekají vás inspirativní přednášky od předních odborníků z&nbsp\\;oboru\\, diskuse o nejnovějších legislativních změnách\\, technologických inovacích a výzvách\\, kterým sektor čelí. Akce je určena členům pořádajících organizací\\, kteří se zajímají o budoucnost obnovitelných zdrojů a moderní energetiky.\\n\\n📌 Nezapomeňte si rezervovat své místo prostřednictvím registračního formuláře.\\nREGISTRUJTE SE ZDE\\nPROGRAM\\nI. BLOK (10:00 – 11:30)\\nModerátor: Jan Krčmář\\, výkonný ředitel\\, Solární asociace\\n\\nPřehled trhu za rok 2024 a výhled\\nJan Krčmář\\, výkonný ředitel\\, Solární asociace\\nPovolovací procesy pro FVE – příslušnost stavebních úřadů\\nJiří Bím\\, vedoucí sekce povolovacích procesů a agrovoltaiky\\, Solární asociace\\nFVE: Nejčastější omyly a jejich prevence\\nTomáš Galeziok\\, technicko-legislativní expert\\, Solární asociace\\nBezpečnost a soulad s&nbsp\\;PPDS v&nbsp\\;sektoru FVE a ESS\\nMartin Hodek\\, Solution Manager PV\\, Huawei Technologies Czech s.r.o.\\nAktuální dotační výzvy NZÚ\\nJakub Hrbek\\, ředitel Sekce realizace projektů energetiky\\, ochrany ovzduší a klimatu\\, Státní fond životního prostředí ČR\\n\\nII. BLOK (12:00 – 14:00)\\nModerátor: Jan Fousek\\, výkonný ředitel\\, AKU-BAT\\n\\nAktuální vývoj LEX OZE III\\nJan Fousek\\, výkonný ředitel\\, AKU-BAT\\nJak vybrat komerční a průmyslové bateriové úložiště (C&amp\\;I BESS)\\nRobin Schilhart\\, Business Development Manager Czechia\\, SolarKit\\nPožadavky na konstrukci bateriových úložišť\\nPavel Hrzina\\, odborný asistent\\, Katedra elektrotechnologie\\, ČVUT\\nAutonomní hasicí systém\\nPeter Rončák\\, obchod a certifikace\\, ASES GROUP\\nJak efektivně využívat bateriové úložiště v&nbsp\\;domácnosti a středním podniku\\nPetr Gaman\\, Head of Advisory\\, Flowbox\\, člen AKU-BAT\\n\\n\\nCENA\\nZDARMA (při potvrzení registrace obdržíte e-mailem vstupenku)\\n\\nVíce o veletrhu Amper naleznete ZDE\\n&nbsp\\;\\n
URL:https://solarniasociace.cz/akce/konference-v-ramci-veletrhu-amper-aktualni-trendy-ve-fotovoltaice-a-akumulaci/
LOCATION:Výstaviště 405/1\\, Výstaviště 405/1\\, Brno-střed-Pisárky\\, Česko
ORGANIZER;CN="Solární asociace":MAILTO:sekretariat@solarniasociace.cz
END:VEVENT
END:VCALENDAR