BEGIN:VCALENDAR
VERSION:2.0
PRODID:-//Solární asociace - ECPv6.8.2.1//NONSGML v1.0//EN
CALSCALE:GREGORIAN
METHOD:PUBLISH
X-WR-CALNAME:Solární asociace
X-ORIGINAL-URL:https://solarniasociace.cz
X-WR-CALDESC:Akce na Solární asociace
REFRESH-INTERVAL;VALUE=DURATION:PT1H
X-Robots-Tag:noindex
X-PUBLISHED-TTL:PT1H
BEGIN:VTIMEZONE
TZID:Europe/Prague
BEGIN:DAYLIGHT
TZOFFSETFROM:+0100
TZOFFSETTO:+0200
TZNAME:CEST
DTSTART:20270330T010000
END:DAYLIGHT
BEGIN:STANDARD
TZOFFSETFROM:+0200
TZOFFSETTO:+0100
TZNAME:CET
DTSTART:20271026T010000
END:STANDARD
END:VTIMEZONE
BEGIN:VEVENT
DTSTART;TZID=Europe/Prague:20250306T093000
DTEND;TZID=Europe/Prague:20250306T113000
DTSTAMP:20260421T004937
CREATED:20250424T221907Z
LAST-MODIFIED:20250424T221907Z
UID:1199-1741253400-1741260600@solarniasociace.cz
SUMMARY:Webinář AKU-BAT: „Mařiče energie: problém\\, nebo řešení? Etika\\, regulace a alternativy v&nbsp\\;oblasti flexibility energetických sítí“
DESCRIPTION:Asociace AKU-BAT Vás srdečně zve na odborný webinář „Mařiče energie – problém\\, nebo řešení? Etika\\, regulace a alternativy v&nbsp\\;oblasti flexibility energetických sítí“.\\nKdy? Webinář bude vysílán online 6.3.2025 od 9:30-11:30.\\nFlexibilita v&nbsp\\;energetice je klíčovým tématem současnosti. S rostoucím podílem obnovitelných zdrojů se stále více setkáváme s&nbsp\\;otázkou\\, jak efektivně řídit výrobu a spotřebu elektřiny. Jedním z&nbsp\\;fenoménů\\, který se v&nbsp\\;posledních letech v&nbsp\\;České republice výrazně rozšířil\\, jsou tzv. mařiče energie. Zatímco někteří je považují za problematický prvek trhu\\, jiní v&nbsp\\;nich vidí efektivní nástroj pro řízení přebytků energie a stabilizaci sítě.\\nTento webinář bude zaměřený nejen na technické a ekonomické aspekty mařičů\\, ale také na jejich dopady na životní prostředí a na možnosti jejich regulace. Přední odborníci zhodnotí\\, zda existují vhodnější alternativy\\, jakými jsou bateriová úložiště či kogenerace\\, a zda legislativa v&nbsp\\;České republice dostatečně reflektuje potřeby moderní energetiky.\\nVíce se dozvíte v&nbsp\\;přiložené pozvánce.\\nREGISTRUJTE SE ZDE\\nKontaktní osoba:\\nVendula Korbelová\\, e-mail: info@akubat-asociace.cz\\n
URL:https://solarniasociace.cz/akce/webinar-aku-bat-marice-energie-problem-nebo-reseni-etika-regulace-a-alternativy-v-oblasti-flexibility-energetickych-siti-2/
END:VEVENT
END:VCALENDAR