BEGIN:VCALENDAR
VERSION:2.0
PRODID:-//Solární asociace - ECPv6.8.2.1//NONSGML v1.0//EN
CALSCALE:GREGORIAN
METHOD:PUBLISH
X-WR-CALNAME:Solární asociace
X-ORIGINAL-URL:https://solarniasociace.cz
X-WR-CALDESC:Akce na Solární asociace
REFRESH-INTERVAL;VALUE=DURATION:PT1H
X-Robots-Tag:noindex
X-PUBLISHED-TTL:PT1H
BEGIN:VTIMEZONE
TZID:Europe/Prague
BEGIN:DAYLIGHT
TZOFFSETFROM:+0100
TZOFFSETTO:+0200
TZNAME:CEST
DTSTART:20270330T010000
END:DAYLIGHT
BEGIN:STANDARD
TZOFFSETFROM:+0200
TZOFFSETTO:+0100
TZNAME:CET
DTSTART:20271026T010000
END:STANDARD
END:VTIMEZONE
BEGIN:VEVENT
DTSTART;TZID=Europe/Prague:20241204T123000
DTEND;TZID=Europe/Prague:20241214T150000
DTSTAMP:20260421T033130
CREATED:20250424T224425Z
LAST-MODIFIED:20250424T224425Z
UID:1211-1733315400-1734188400@solarniasociace.cz
SUMMARY:Informační seminář k&nbsp\\;valné hromadě
DESCRIPTION:Vážení členové\\,\\ndovolujeme si Vás pozvat na informační seminář k&nbsp\\;valné hromadě Solární asociace. Jsou pro Vás opět připravena aktuální témata ze solárního sektoru\\, která Vám představí naši legislativní a odborní experti.\\n\\nKdy: 4.&nbsp\\;prosince 2024\\, 12:30 – 15:00\\nKde: Hotel Botanique Praha\\, Sokolovská 11\\, 186&nbsp\\;00 Karlín\\nProgram:\\n\\nESG a kybernetická bezpečnost\\nPetr Klimek\\, Country Manager CEE &amp\\; Nordics Bureau Czech Republic\\, SolarEdge Technologies\\, Inc.\\n\\n\\nKonstrukční systémy na ploché střechy a jejich aktuální trendy\\nTomáš Horáček\\, Produktový manažer novotegra\\, BayWa r.e. Solar Systems s.r.o.\\n\\n\\nLegislativní podmínky instalací a provozu akumulace energie\\nPavel Doucha\\, Doucha Šikola advokáti s.r.o.\\n\\n\\nZměny pravidel pro podávání žádostí a připojování výroben k&nbsp\\;DS\\nLuboš Pohořelský\\, product owner\\, odbor Řízení rozvoje obsluhy\\,\\nJakub Vaněk\\, specialista odboru Obsluha zákazníků\\, ČEZ Distribuce\\n\\n\\nFlexibilita baterií a solárních elektráren\\nPetr Foitl\\, CEO\\, Solar Global Energy\\n\\nModerátor:  Jan Krčmář\\, výkonný ředitel Solární asociace\\nREGISTRUJTE SE ZDE\\nOrganizační pokyny\\n\\nDovolujeme si Vás upozornit\\, že setkání je určené pouze pro členy Solární asociace. Účast není spojena s&nbsp\\;žádným finančním příspěvkem.\\nZměna programu vyhrazena.\\nRegistrace končí 2.&nbsp\\;12.&nbsp\\;v&nbsp\\;17:00 hod. Od této doby se již nebude možné z&nbsp\\;technických důvodů přihlásit.\\n\\n&nbsp\\;\\n
URL:https://solarniasociace.cz/akce/informacni-seminar-k-valne-hromade/
LOCATION:Sokolovská 11\\, Sokolovská 11\\, Karlín\\, Česko
ORGANIZER;CN="Solární asociace":MAILTO:sekretariat@solarniasociace.cz
END:VEVENT
END:VCALENDAR