BEGIN:VCALENDAR
VERSION:2.0
PRODID:-//Solární asociace - ECPv6.8.2.1//NONSGML v1.0//EN
CALSCALE:GREGORIAN
METHOD:PUBLISH
X-WR-CALNAME:Solární asociace
X-ORIGINAL-URL:https://solarniasociace.cz
X-WR-CALDESC:Akce na Solární asociace
REFRESH-INTERVAL;VALUE=DURATION:PT1H
X-Robots-Tag:noindex
X-PUBLISHED-TTL:PT1H
BEGIN:VTIMEZONE
TZID:Europe/Prague
BEGIN:DAYLIGHT
TZOFFSETFROM:+0100
TZOFFSETTO:+0200
TZNAME:CEST
DTSTART:20270330T010000
END:DAYLIGHT
BEGIN:STANDARD
TZOFFSETFROM:+0200
TZOFFSETTO:+0100
TZNAME:CET
DTSTART:20271026T010000
END:STANDARD
END:VTIMEZONE
BEGIN:VEVENT
DTSTART;TZID=Europe/Prague:20241126T080000
DTEND;TZID=Europe/Prague:20241127T170000
DTSTAMP:20260421T051036
CREATED:20250424T225220Z
LAST-MODIFIED:20250428T170544Z
UID:1215-1732608000-1732726800@solarniasociace.cz
SUMMARY:Large Scale Solar Central and Eastern Europe Summit
DESCRIPTION:Čtvrtý ročník summitu Large Scale Solar Central and Eastern Europe se zaměřuje na rozvoj velkokapacitních solárních projektů ve střední a východní Evropě. Tato klíčová akce spojuje investory\\, vývojáře a technologické specialisty\\, aby diskutovali o aktuálních výzvách a příležitostech v&nbsp\\;oblasti solární energie. Mezi vystupujícími budou i Jan Krčmář a Jan Fousek\\, kteří se podělí o své odborné znalosti a zkušenosti.\\nČlenové Solární asociace mají možnost využít slevy na vstupné (slevový kód)\\, který najdou v&nbsp\\;pravidelně zasílaných newsletterech nebo v&nbsp\\;aktualitách.\\n
URL:https://solarniasociace.cz/akce/large-scale-solar-central-and-eastern-europe-summit/
LOCATION:Al. Jerozolimskie 65\\, Aleje Jerozolimskie 65/79\\, Varšava\\, Polsko
ATTACH;FMTTYPE=image/webp:https://solarniasociace.cz/wp-content/uploads/2025/04/Warsaw-300x37-1.webp
END:VEVENT
END:VCALENDAR