BEGIN:VCALENDAR
VERSION:2.0
PRODID:-//Solární asociace - ECPv6.8.2.1//NONSGML v1.0//EN
CALSCALE:GREGORIAN
METHOD:PUBLISH
X-WR-CALNAME:Solární asociace
X-ORIGINAL-URL:https://solarniasociace.cz
X-WR-CALDESC:Akce na Solární asociace
REFRESH-INTERVAL;VALUE=DURATION:PT1H
X-Robots-Tag:noindex
X-PUBLISHED-TTL:PT1H
BEGIN:VTIMEZONE
TZID:Europe/Prague
BEGIN:DAYLIGHT
TZOFFSETFROM:+0100
TZOFFSETTO:+0200
TZNAME:CEST
DTSTART:20270330T010000
END:DAYLIGHT
BEGIN:STANDARD
TZOFFSETFROM:+0200
TZOFFSETTO:+0100
TZNAME:CET
DTSTART:20271026T010000
END:STANDARD
END:VTIMEZONE
BEGIN:VEVENT
DTSTART;TZID=Europe/Prague:20241119T130000
DTEND;TZID=Europe/Prague:20241119T160000
DTSTAMP:20260421T052204
CREATED:20250424T225612Z
LAST-MODIFIED:20250428T170659Z
UID:1218-1732021200-1732032000@solarniasociace.cz
SUMMARY:Workshop: hybridní měniče Solinteg a paralelní propojování
DESCRIPTION:Photon Energy a Solinteg srdečně zvou do prostor laboratoře Solinteg v&nbsp\\;Brně na workshop pro instalátory fotovoltaiky.\\nDetaily akce\\nDatum: 19.&nbsp\\;listopadu 2024\\nČas: 13:00 – 16:00\\nMísto konání: Solinteg Laboratory\\, Karlova 933/7\\, Brno\\nRegistrace\\nÚčast na workshopu je zdarma\\, je ale nutné se předem registrovat ZDE.\\nProgram\\n\\npředstavení společností Photon Energy a Solinteg\\nhybridní měniče a baterie Solinteg pro rezidenční i komerční využití\\nbateriová úložiště Dyness a paralelní propojení pomocí Dyness combiner boxu\\nnabíjecí stanice Solinteg plánované produktové novinky Solitnteg\\n\\nAkční nabídka na měniče Solinteg\\nVýhradně pro účastníky workshopu je určena tato akční nabídka:\\n\\nPro nové zákazníky: při koupi dvou měničů Solinteg MHT-10K-25 třetí zdarma.\\nPro stávající zákazníky: 50 kW v&nbsp\\;prodloužených zárukách.\\n\\n
URL:https://solarniasociace.cz/akce/workshop-hybridni-menice-solinteg-a-paralelni-propojovani/
LOCATION:DEPO\\, DEPO\\, Karlova 933/7\\, Brno-Maloměřice a Obřany\\, Česko
END:VEVENT
END:VCALENDAR