BEGIN:VCALENDAR
VERSION:2.0
PRODID:-//Solární asociace - ECPv6.8.2.1//NONSGML v1.0//EN
CALSCALE:GREGORIAN
METHOD:PUBLISH
X-WR-CALNAME:Solární asociace
X-ORIGINAL-URL:https://solarniasociace.cz
X-WR-CALDESC:Akce na Solární asociace
REFRESH-INTERVAL;VALUE=DURATION:PT1H
X-Robots-Tag:noindex
X-PUBLISHED-TTL:PT1H
BEGIN:VTIMEZONE
TZID:Europe/Prague
BEGIN:DAYLIGHT
TZOFFSETFROM:+0100
TZOFFSETTO:+0200
TZNAME:CEST
DTSTART:20270330T010000
END:DAYLIGHT
BEGIN:STANDARD
TZOFFSETFROM:+0200
TZOFFSETTO:+0100
TZNAME:CET
DTSTART:20271026T010000
END:STANDARD
END:VTIMEZONE
BEGIN:VEVENT
DTSTART;TZID=Europe/Prague:20241113T140000
DTEND;TZID=Europe/Prague:20241113T150000
DTSTAMP:20260421T051649
CREATED:20250424T225816Z
LAST-MODIFIED:20250424T225816Z
UID:1219-1731506400-1731510000@solarniasociace.cz
SUMMARY:Webinář: Nové asymetrické střídače Sungrow
DESCRIPTION:Připojte se k&nbsp\\;webináři Nové asymetrické střídače Sungrow 13.&nbsp\\;11.&nbsp\\;od 14:00!\\nZveme vás na webinář\\, kde se Martin Šíp a Matyáš Ferus zaměří na technické aspekty a klíčové prodejní argumenty pro nové asymetrické střídače Sungrow\\, aby byly prakticky využitelné. Martin představí Sungrow Club a jeho platformu\\, a také vás čeká lekce na CX a SHT\\, kde se podíváme na tipy pro zákaznickou zkušenost a chytré technologie v&nbsp\\;prodejním procesu.\\nPřihlaste se a využijte tuto příležitost pro své vzdělávání!\\nREGISTRUJTE SE ZDE\\nObsah webináře:\\n\\nDiskuze s&nbsp\\;Matyášem Ferusem: Technické osvětlení klíčových prodejních argumentů\\, aby byly jasné a využitelné pro všechny.\\nPředstavení Sungrow Club: Jak na platformu Sungrow Club.\\nLekce na CX a SHT: Praktické tipy pro zákaznickou zkušenost (CX) a chytré technologie (SHT) v&nbsp\\;prodejním procesu.\\n\\n\\nWebinář je pořádaný společností Memodo\\, která je zlatým partnerem Solární asociace.\\nDalší informace k&nbsp\\;webináři se dozvíte zde.\\n
URL:https://solarniasociace.cz/akce/webinar-nove-asymetricke-stridace-sungrow/
END:VEVENT
END:VCALENDAR