BEGIN:VCALENDAR
VERSION:2.0
PRODID:-//Solární asociace - ECPv6.8.2.1//NONSGML v1.0//EN
CALSCALE:GREGORIAN
METHOD:PUBLISH
X-WR-CALNAME:Solární asociace
X-ORIGINAL-URL:https://solarniasociace.cz
X-WR-CALDESC:Akce na Solární asociace
REFRESH-INTERVAL;VALUE=DURATION:PT1H
X-Robots-Tag:noindex
X-PUBLISHED-TTL:PT1H
BEGIN:VTIMEZONE
TZID:Europe/Prague
BEGIN:DAYLIGHT
TZOFFSETFROM:+0100
TZOFFSETTO:+0200
TZNAME:CEST
DTSTART:20270330T010000
END:DAYLIGHT
BEGIN:STANDARD
TZOFFSETFROM:+0200
TZOFFSETTO:+0100
TZNAME:CET
DTSTART:20271026T010000
END:STANDARD
END:VTIMEZONE
BEGIN:VEVENT
DTSTART;TZID=Europe/Prague:20240917T080000
DTEND;TZID=Europe/Prague:20240921T170000
DTSTAMP:20260421T111255
CREATED:20250428T173242Z
LAST-MODIFIED:20250428T173302Z
UID:1239-1726560000-1726938000@solarniasociace.cz
SUMMARY:Mezinárodní stavební veletrh: For Arch 2024
DESCRIPTION:FOR ARCH 2024 je největší mezinárodní stavební veletrh v&nbsp\\;Česku\\, který se koná v&nbsp\\;Praze ve dnech 17.&nbsp\\;9. – 21.&nbsp\\;9.&nbsp\\;2024. Prezentuje nejnovější trendy a inovace v&nbsp\\;oblasti stavebnictví\\, architektury a udržitelných technologií. Součástí veletrhu bude 17.&nbsp\\;září konference Trendy ve fotovoltaice a akumulaci\\, pořádaná Solární asociací\\, zaměřená na aktuální vývoj v&nbsp\\;oblasti solární energie a ukládání energie.\\nVeletrh nabízí ideální příležitost pro firmy a odborníky k&nbsp\\;navázání kontaktů a získání inspirace.\\n
URL:https://solarniasociace.cz/akce/mezinarodni-stavebni-veletrh-for-arch-2024/
LOCATION:667\\, Beranových 667\\, Letňany\\, Česká republika
END:VEVENT
END:VCALENDAR