BEGIN:VCALENDAR
VERSION:2.0
PRODID:-//Solární asociace - ECPv6.8.2.1//NONSGML v1.0//EN
CALSCALE:GREGORIAN
METHOD:PUBLISH
X-WR-CALNAME:Solární asociace
X-ORIGINAL-URL:https://solarniasociace.cz
X-WR-CALDESC:Akce na Solární asociace
REFRESH-INTERVAL;VALUE=DURATION:PT1H
X-Robots-Tag:noindex
X-PUBLISHED-TTL:PT1H
BEGIN:VTIMEZONE
TZID:Europe/Prague
BEGIN:DAYLIGHT
TZOFFSETFROM:+0100
TZOFFSETTO:+0200
TZNAME:CEST
DTSTART:20270330T010000
END:DAYLIGHT
BEGIN:STANDARD
TZOFFSETFROM:+0200
TZOFFSETTO:+0100
TZNAME:CET
DTSTART:20271026T010000
END:STANDARD
END:VTIMEZONE
BEGIN:VEVENT
DTSTART;TZID=Europe/Prague:20240917T140000
DTEND;TZID=Europe/Prague:20240917T170000
DTSTAMP:20260421T094605
CREATED:20250428T173546Z
LAST-MODIFIED:20250428T173609Z
UID:1241-1726581600-1726592400@solarniasociace.cz
SUMMARY:Odborná konference For Arch 2024: Trendy ve fotovoltaice a akumulaci
DESCRIPTION:Konference Trendy ve fotovoltaice a akumulaci\\, pořádaná Solární asociací\\, se uskuteční v&nbsp\\;rámci veletrhu For Arch 2024 dne 17.&nbsp\\;září 2024. Program začne ve 14:00 hodin a potrvá do 17:00 hodin v přednáškovém sále č. 1. Tato prestižní akce nabídne přehled nejnovějších trendů v&nbsp\\;oblasti fotovoltaiky a akumulace energie\\, zaměřený na aktuální vývoj a inovace\\, které ovlivňují tuto rychle se rozvíjející oblast.\\nPROGRAM\\n14:00 – 15:15&nbsp\\;1. BLOK\\n\\nProtipožární norma a její aplikace v&nbsp\\;praxi\\nPavel Beran\\, odborník na požární bezpečnost staveb\\nVývoj produktových trendů v&nbsp\\;roce 2025\\nPetr Šíma\\, Solution manager\\, Raylyst Solar s.r.o.\\nTrendy ve fotovoltaice\\, chytrá parkovací místa\\nPetr Urválek\\, specialista na solární zastřešení\\, ALUKOV a.s.\\n\\n15:15 – 15:45 PŘESTÁVKA\\n15:45 – 17:00&nbsp\\;2. BLOK\\n\\nSdílení energie v&nbsp\\;bytovém domě\\nMartina Hlaváčková Hupková\\, Jiří Šizling\\, členové Unie pro komunitní energetiku (UKEN)\\nJak na dům\\, který vydělává na elektřině\\nJan Hicl\\, Delta Green s.r.o.\\, člen asociace AKU-BAT\\nProtipožární příručka bateriových úložišť\\nTomáš Galeziok\\, technicko-legislativní expert Solární asociace\\n\\nZájemce o účast prosíme o vyplnění registračního formuláře níže do 16.&nbsp\\;9.&nbsp\\;2024 do 12 hod.\\nREGISTRACE\\n
URL:https://solarniasociace.cz/akce/odborna-konference-for-arch-2024-trendy-ve-fotovoltaice-a-akumulaci/
LOCATION:667\\, Beranových 667\\, Letňany\\, Česko
ATTACH;FMTTYPE=image/webp:https://solarniasociace.cz/wp-content/uploads/2025/04/For-Arch-2024-pdf-300x300.webp
ORGANIZER;CN="Solární asociace":MAILTO:sekretariat@solarniasociace.cz
END:VEVENT
END:VCALENDAR