BEGIN:VCALENDAR
VERSION:2.0
PRODID:-//Solární asociace - ECPv6.8.2.1//NONSGML v1.0//EN
CALSCALE:GREGORIAN
METHOD:PUBLISH
X-WR-CALNAME:Solární asociace
X-ORIGINAL-URL:https://solarniasociace.cz
X-WR-CALDESC:Akce na Solární asociace
REFRESH-INTERVAL;VALUE=DURATION:PT1H
X-Robots-Tag:noindex
X-PUBLISHED-TTL:PT1H
BEGIN:VTIMEZONE
TZID:Europe/Prague
BEGIN:DAYLIGHT
TZOFFSETFROM:+0100
TZOFFSETTO:+0200
TZNAME:CEST
DTSTART:20270330T010000
END:DAYLIGHT
BEGIN:STANDARD
TZOFFSETFROM:+0200
TZOFFSETTO:+0100
TZNAME:CET
DTSTART:20271026T010000
END:STANDARD
END:VTIMEZONE
BEGIN:VEVENT
DTSTART;TZID=Europe/Prague:20240925T080000
DTEND;TZID=Europe/Prague:20240926T170000
DTSTAMP:20260421T081913
CREATED:20250428T174118Z
LAST-MODIFIED:20250428T174118Z
UID:1248-1727251200-1727370000@solarniasociace.cz
SUMMARY:VIDA conference: Fotovoltaika v&nbsp\\;praxi
DESCRIPTION:Ve dnech 25.&nbsp\\;a 26.&nbsp\\;září 2024 se uskuteční prestižní konference Vidacon: Fotovoltaika v&nbsp\\;praxi\\, která se zaměří na aktuální trendy\\, technologické inovace a praktické zkušenosti z&nbsp\\;oblasti fotovoltaiky. Tento významný odborný seminář nabídne účastníkům jedinečnou příležitost získat cenné poznatky a navázat kontakty s&nbsp\\;předními odborníky z&nbsp\\;oboru.\\nMezi hlavními řečníky vystoupí za Solární asociaci Jan Krčmář a Jan Fousek. Oba řečníci se podělí o své odborné zkušenosti a pohledy na budoucnost fotovoltaiky v&nbsp\\;České republice i v&nbsp\\;zahraničí.\\nKonference je určena pro všechny\\, kdo se zajímají o implementaci fotovoltaických systémů\\, od odborníků z&nbsp\\;oblasti energetiky až po zástupce státní správy a komerční sféry. Přijďte se inspirovat a zjistit\\, jakým směrem se ubírá budoucnost fotovoltaiky v&nbsp\\;praxi!\\n
URL:https://solarniasociace.cz/akce/vida-conference-fotovoltaika-v-praxi/
LOCATION:U Sluncové 71/14\\, U Sluncové 14\\, Praha 8-Invalidovna\\, Česko
ATTACH;FMTTYPE=image/webp:https://solarniasociace.cz/wp-content/uploads/2025/04/Banner-800x444-1-300x167.webp
END:VEVENT
END:VCALENDAR