BEGIN:VCALENDAR
VERSION:2.0
PRODID:-//Solární asociace - ECPv6.8.2.1//NONSGML v1.0//EN
CALSCALE:GREGORIAN
METHOD:PUBLISH
X-WR-CALNAME:Solární asociace
X-ORIGINAL-URL:https://solarniasociace.cz
X-WR-CALDESC:Akce na Solární asociace
REFRESH-INTERVAL;VALUE=DURATION:PT1H
X-Robots-Tag:noindex
X-PUBLISHED-TTL:PT1H
BEGIN:VTIMEZONE
TZID:Europe/Prague
BEGIN:DAYLIGHT
TZOFFSETFROM:+0100
TZOFFSETTO:+0200
TZNAME:CEST
DTSTART:20270330T010000
END:DAYLIGHT
BEGIN:STANDARD
TZOFFSETFROM:+0200
TZOFFSETTO:+0100
TZNAME:CET
DTSTART:20271026T010000
END:STANDARD
END:VTIMEZONE
BEGIN:VEVENT
DTSTART;TZID=Europe/Prague:20240926T130000
DTEND;TZID=Europe/Prague:20240926T150000
DTSTAMP:20260421T094139
CREATED:20250428T174251Z
LAST-MODIFIED:20250428T174251Z
UID:1250-1727355600-1727362800@solarniasociace.cz
SUMMARY:Webinář: Novinky v&nbsp\\;dotačních programech – aktuální výzvy
DESCRIPTION:Vážení členové\\,\\nrádi bychom Vás srdečně pozvali na nadcházející webinář s&nbsp\\;názvem “Novinky v&nbsp\\;dotačních programech – aktuální výzvy”. Tento webinář se bude věnovat nejnovějším změnám a příležitostem v&nbsp\\;oblasti dotačních programů. Během prezentace budete mít možnost klást dotazy a získat odpovědi na konkrétní otázky\\, které Vás zajímají.\\nPřipojte se k&nbsp\\;nám a získejte cenné informace\\, které Vám mohou pomoci úspěšně využít aktuální dotační výzvy.\\nModerátor: Jan Krčmář\\, výkonný ředitel Solární asociace\\nPŘEDNÁŠEJÍCÍ:\\n\\nJakub Hrbek\\, ředitel Sekce realizace projektů energetiky\\, ochrany ovzduší a klimatu\\, SFŽP\\nOndřej Tomšej\\, ředitel odboru Odbor infrastruktury pro MSP a energetických programů\\, MPO\\nHubert Kincl\\, manager vývoje produktu\\, Národní rozvojová banka\\n\\nORGANIZAČNÍ POKYNY:\\nWebinář je bezplatný a je určen výhradně členům Solární asociace.\\nKaždý účastník obdrží svůj unikátní přístupový kód po předchozí registraci.\\nRegistrace končí 25.&nbsp\\;9.&nbsp\\;ve 12:00 hod. Od této doby se již nebude možné z&nbsp\\;technických důvodů přihlásit.\\nREGISTRACE\\n
URL:https://solarniasociace.cz/akce/webinar-novinky-v-dotacnich-programech-aktualni-vyzvy/
ATTACH;FMTTYPE=image/webp:https://solarniasociace.cz/wp-content/uploads/2025/04/solar-park-velky-Stredni-300x200.webp
ORGANIZER;CN="Solární asociace":MAILTO:sekretariat@solarniasociace.cz
END:VEVENT
END:VCALENDAR