BEGIN:VCALENDAR
VERSION:2.0
PRODID:-//Solární asociace - ECPv6.8.2.1//NONSGML v1.0//EN
CALSCALE:GREGORIAN
METHOD:PUBLISH
X-WR-CALNAME:Solární asociace
X-ORIGINAL-URL:https://solarniasociace.cz
X-WR-CALDESC:Akce na Solární asociace
REFRESH-INTERVAL;VALUE=DURATION:PT1H
X-Robots-Tag:noindex
X-PUBLISHED-TTL:PT1H
BEGIN:VTIMEZONE
TZID:Europe/Prague
BEGIN:DAYLIGHT
TZOFFSETFROM:+0100
TZOFFSETTO:+0200
TZNAME:CEST
DTSTART:20270330T010000
END:DAYLIGHT
BEGIN:STANDARD
TZOFFSETFROM:+0200
TZOFFSETTO:+0100
TZNAME:CET
DTSTART:20271026T010000
END:STANDARD
END:VTIMEZONE
BEGIN:VEVENT
DTSTART;TZID=Europe/Prague:20241022T080000
DTEND;TZID=Europe/Prague:20241023T170000
DTSTAMP:20260421T081721
CREATED:20250428T174533Z
LAST-MODIFIED:20250428T174533Z
UID:1254-1729584000-1729702800@solarniasociace.cz
SUMMARY:DNY KOGENERACE 2024
DESCRIPTION:Srdečně Vás zveme na největší událost oboru\\, 17.&nbsp\\;ročník konference Dny kogenerace\\, Přijďte diskutovat o aktuálních novinkách a plánovaných změnách v&nbsp\\;legislativě\\, trendech v&nbsp\\;kogeneraci\\, kombinacích s&nbsp\\;ostatními zdroji\\, příkladech dobré praxe a inovacích ve flexibilitě a podpůrných službách. Účastníkům poskytujeme slevy při včasné registraci. Zajímavé možnosti pro partnery a vystavovatele.\\nNEJVĚTŠÍ UDÁLOST OBORU\\n\\nDva dny odborných tematických přednášek\\nNejvýznamnější experti z&nbsp\\;oboru kogenerace\\nTrendy a legislativa v&nbsp\\;kogeneraci\\nNezapomenutelný společenský večer\\nEvropský týden biometanu\\n\\nVÝBĚR Z&nbsp\\;PROGRAMU\\n\\nLegislativní blok: Aktuální novinky a plánované změny\\nTrendy v&nbsp\\;kogeneraci: Kombinace s&nbsp\\;ostatními zdroji\\nPříklady dobré praxe: Projekty lídrů v&nbsp\\;oboru\\nSAF blok: Novinky ve flexibilitě a podpůrných službách\\nDiskuze odborníků: Inovace v&nbsp\\;kogeneraci\\nCZ Biom: Představení inovativních projektů\\n\\nVíce informací o programu na https://dny-kogenerace.cogen.cz/.\\nRegistrovat se můžete ZDE.\\n
URL:https://solarniasociace.cz/akce/dny-kogenerace-2024/
LOCATION:Aquapalace Hotel Prague\\, Aquapalace Hotel Prague\\, Pražská\\, Čestlice-Říčany u Prahy\\, Česko
END:VEVENT
END:VCALENDAR