BEGIN:VCALENDAR
VERSION:2.0
PRODID:-//Solární asociace - ECPv6.8.2.1//NONSGML v1.0//EN
CALSCALE:GREGORIAN
METHOD:PUBLISH
X-WR-CALNAME:Solární asociace
X-ORIGINAL-URL:https://solarniasociace.cz
X-WR-CALDESC:Akce na Solární asociace
REFRESH-INTERVAL;VALUE=DURATION:PT1H
X-Robots-Tag:noindex
X-PUBLISHED-TTL:PT1H
BEGIN:VTIMEZONE
TZID:Europe/Prague
BEGIN:DAYLIGHT
TZOFFSETFROM:+0100
TZOFFSETTO:+0200
TZNAME:CEST
DTSTART:20270330T010000
END:DAYLIGHT
BEGIN:STANDARD
TZOFFSETFROM:+0200
TZOFFSETTO:+0100
TZNAME:CET
DTSTART:20271026T010000
END:STANDARD
END:VTIMEZONE
BEGIN:VEVENT
DTSTART;TZID=Europe/Prague:20241024T090000
DTEND;TZID=Europe/Prague:20241024T160000
DTSTAMP:20260421T064610
CREATED:20250428T174953Z
LAST-MODIFIED:20250428T174953Z
UID:1257-1729760400-1729785600@solarniasociace.cz
SUMMARY:Konference ESG meetup: Reporting &#038\\; Auditing
DESCRIPTION:\\nOd ledna 2025 se stává ESG reporting povinností pro další velkou skupinu firem. Ale již dnes dopadá na celé dodavatelské řetězce. Jak k&nbsp\\;ESG přistoupily některé přední české společnosti? Jak se budou výstupy auditovat? A jakým způsobem nejlépe ESG komunikovat ve firmách i u obchodních partnerů?\\nAkce pod záštitou ministra financí Ing. Zbyňka Stanjury.\\nProgram ke stažení ZDE.\\n\\nKdy: čtvrtek 24.&nbsp\\;října 2024\\, 9:00 – 16:00 hod\\nKde: PressCentrum ČTK\\, Opletalova 5\\, Praha 1\\n\\nCena: 6&nbsp\\;400 Kč/osoba + DPH\\, vstupenky lze zakoupit ZDE.\\nÚčastníci obdrží knihu ISO a ESG pro udržitelný růst organizace\\, jejíž autorkou je odborná garantka konference Veronika Soukupová.\\n\\n\\n \\n\\n
URL:https://solarniasociace.cz/akce/konference-esg-meetup-reporting-auditing/
LOCATION:Opletalova 919/5\\, Opletalova 5\\, Nové Město\\, Česko
END:VEVENT
END:VCALENDAR