BEGIN:VCALENDAR
VERSION:2.0
PRODID:-//Solární asociace - ECPv6.8.2.1//NONSGML v1.0//EN
CALSCALE:GREGORIAN
METHOD:PUBLISH
X-WR-CALNAME:Solární asociace
X-ORIGINAL-URL:https://solarniasociace.cz
X-WR-CALDESC:Akce na Solární asociace
REFRESH-INTERVAL;VALUE=DURATION:PT1H
X-Robots-Tag:noindex
X-PUBLISHED-TTL:PT1H
BEGIN:VTIMEZONE
TZID:Europe/Prague
BEGIN:DAYLIGHT
TZOFFSETFROM:+0100
TZOFFSETTO:+0200
TZNAME:CEST
DTSTART:20270330T010000
END:DAYLIGHT
BEGIN:STANDARD
TZOFFSETFROM:+0200
TZOFFSETTO:+0100
TZNAME:CET
DTSTART:20271026T010000
END:STANDARD
END:VTIMEZONE
BEGIN:VEVENT
DTSTART;TZID=Europe/Prague:20240611T130000
DTEND;TZID=Europe/Prague:20240611T150000
DTSTAMP:20260421T140327
CREATED:20250428T175301Z
LAST-MODIFIED:20250428T175301Z
UID:1260-1718110800-1718118000@solarniasociace.cz
SUMMARY:Setkání: Pracovní skupina pro velké zdroje
DESCRIPTION:Zveme členy pracovní skupiny a členy Solární asociace na setkání pracovní skupiny pro velké zdroje\\, které se bude konat dne 11.&nbsp\\;června 2024 v&nbsp\\;hotelu Botanique Praha.\\n\\nPROGRAM\\n\\nAktuality z&nbsp\\;legislativy a dotačních programech\\nJan Krčmář\\, výkonný ředitel Solární asociace\\n\\n\\nZákon o zemědělském půdním fondu a agrovoltaika\\nJan Krčmář\\, výkonný ředitel Solární asociace\\n\\n\\nPPA smlouvy\\, aktuální stav\\nMatej Krušpán\\, Chief commercial officer Rezolv Energy s.r.o.\\n\\n\\nNovinky v recyklaci\\nVáclav Douda\\, provozní ředitel Resolar s.r.o.\\n\\n\\nPředstavení projektu Slunce pro Ukrajinu\\nAlžběta Kofránková a Robert Vlček\\, Nezávislé Sociálně Ekologické Hnutí\\n\\n\\nORGANIZAČNÍ POKYNY\\n\\nDovolujeme si Vás upozornit\\, že setkání je určené pouze členům pracovní skupiny. Účast není spojena s&nbsp\\;žádným finančním příspěvkem.\\nZměna programu vyhrazena.\\nRegistrace končí 7.&nbsp\\;6.&nbsp\\;2024 ve 12:00 hod.\\nV případě Vašeho zájmu o účast v&nbsp\\;této skupině\\, neváhejte kontaktovat Michaelu Černou.\\n\\n
URL:https://solarniasociace.cz/akce/setkani-pracovni-skupina-pro-velke-zdroje-3/
LOCATION:Botanique Hotel Prague\\, Botanique Hotel Prague\\, Sokolovská 11\\, Karlín\\, Česko
ORGANIZER;CN="Solární asociace":MAILTO:sekretariat@solarniasociace.cz
END:VEVENT
END:VCALENDAR