BEGIN:VCALENDAR
VERSION:2.0
PRODID:-//Solární asociace - ECPv6.8.2.1//NONSGML v1.0//EN
CALSCALE:GREGORIAN
METHOD:PUBLISH
X-WR-CALNAME:Solární asociace
X-ORIGINAL-URL:https://solarniasociace.cz
X-WR-CALDESC:Akce na Solární asociace
REFRESH-INTERVAL;VALUE=DURATION:PT1H
X-Robots-Tag:noindex
X-PUBLISHED-TTL:PT1H
BEGIN:VTIMEZONE
TZID:Europe/Prague
BEGIN:DAYLIGHT
TZOFFSETFROM:+0100
TZOFFSETTO:+0200
TZNAME:CEST
DTSTART:20270330T010000
END:DAYLIGHT
BEGIN:STANDARD
TZOFFSETFROM:+0200
TZOFFSETTO:+0100
TZNAME:CET
DTSTART:20271026T010000
END:STANDARD
END:VTIMEZONE
BEGIN:VEVENT
DTSTART;TZID=Europe/Prague:20240618T080000
DTEND;TZID=Europe/Prague:20240621T170000
DTSTAMP:20260421T140457
CREATED:20250428T175553Z
LAST-MODIFIED:20250428T175553Z
UID:1262-1718697600-1718989200@solarniasociace.cz
SUMMARY:Intersolar Europe
DESCRIPTION:Největší světový veletrh zaměřený na solární energetiku se bude konat tradičně v&nbsp\\;Mnichově. 18.&nbsp\\;a 19.&nbsp\\;června 2024 proběhne úvodní konference\\, na kterou 19.&nbsp\\;června naváže otevření expozice.\\nVeškeré informace naleznete na webu veletrhu.\\n
URL:https://solarniasociace.cz/akce/intersolar-europe/
LOCATION:ICM - International Congress Center Messe München\\, International Congress Center München\\, Mnichov\\, Německo
ATTACH;FMTTYPE=image/webp:https://solarniasociace.cz/wp-content/uploads/2025/04/¨.webp
END:VEVENT
END:VCALENDAR