BEGIN:VCALENDAR
VERSION:2.0
PRODID:-//Solární asociace - ECPv6.8.2.1//NONSGML v1.0//EN
CALSCALE:GREGORIAN
METHOD:PUBLISH
X-WR-CALNAME:Solární asociace
X-ORIGINAL-URL:https://solarniasociace.cz
X-WR-CALDESC:Akce na Solární asociace
REFRESH-INTERVAL;VALUE=DURATION:PT1H
X-Robots-Tag:noindex
X-PUBLISHED-TTL:PT1H
BEGIN:VTIMEZONE
TZID:Europe/Prague
BEGIN:DAYLIGHT
TZOFFSETFROM:+0100
TZOFFSETTO:+0200
TZNAME:CEST
DTSTART:20270330T010000
END:DAYLIGHT
BEGIN:STANDARD
TZOFFSETFROM:+0200
TZOFFSETTO:+0100
TZNAME:CET
DTSTART:20271026T010000
END:STANDARD
END:VTIMEZONE
BEGIN:VEVENT
DTSTART;TZID=Europe/Prague:20240621T000000
DTEND;TZID=Europe/Prague:20240621T010000
DTSTAMP:20260421T110925
CREATED:20250428T175938Z
LAST-MODIFIED:20250606T134302Z
UID:1266-1718928000-1718931600@solarniasociace.cz
SUMMARY:Evropský den Slunce
DESCRIPTION:Evropský den slunce\\, který pořádá asociace SolarPower Europe\\, je každoroční oslavou síly slunce a jeho významu pro dosažení přechodu na novou energetiku a zlepšení kvality života lidí v&nbsp\\;celé Evropě. Slaví se v&nbsp\\;celé Evropě 21.&nbsp\\;června\\, v&nbsp\\;nejjasnější a nejdelší den v&nbsp\\;roce.\\nTento výjimečný den spojuje lidi v&nbsp\\;celé Evropě\\, aby společně oslavili a podnikli kroky pro budoucnost poháněnou sluneční energií.\\n
URL:https://solarniasociace.cz/akce/evropsky-den-slunce/
ATTACH;FMTTYPE=image/webp:https://solarniasociace.cz/wp-content/uploads/2025/04/ESD-landscape-yellow-tongue@2x-300x111-1.webp
END:VEVENT
END:VCALENDAR