BEGIN:VCALENDAR
VERSION:2.0
PRODID:-//Solární asociace - ECPv6.8.2.1//NONSGML v1.0//EN
CALSCALE:GREGORIAN
METHOD:PUBLISH
X-WR-CALNAME:Solární asociace
X-ORIGINAL-URL:https://solarniasociace.cz
X-WR-CALDESC:Akce na Solární asociace
REFRESH-INTERVAL;VALUE=DURATION:PT1H
X-Robots-Tag:noindex
X-PUBLISHED-TTL:PT1H
BEGIN:VTIMEZONE
TZID:Europe/Prague
BEGIN:DAYLIGHT
TZOFFSETFROM:+0100
TZOFFSETTO:+0200
TZNAME:CEST
DTSTART:20270330T010000
END:DAYLIGHT
BEGIN:STANDARD
TZOFFSETFROM:+0200
TZOFFSETTO:+0100
TZNAME:CET
DTSTART:20271026T010000
END:STANDARD
END:VTIMEZONE
BEGIN:VEVENT
DTSTART;TZID=Europe/Prague:20240531T000000
DTEND;TZID=Europe/Prague:20240731T000000
DTSTAMP:20260421T140512
CREATED:20250501T174314Z
LAST-MODIFIED:20250501T174314Z
UID:1582-1717113600-1722384000@solarniasociace.cz
SUMMARY:Hlasování valné hromady per rollam
DESCRIPTION:Volba nových členů představenstva\\nDokumenty potřebné k hlasování:\\n\\nHlasovací lístek včetně pokynů k&nbsp\\;hlasování\\nKandidátky do představenstva:\\n\\nLadislav Seidler\\, Společnost MICRONIX\\,spol. s&nbsp\\;r.o.\\nPavel Maleček\\, Enfinity 20 s.r.o. (skupina Enery)\\nMatěj Řehák\\, SOLARTEC HOLDING a.s.\\nOndřej Pícha\\, Sun construct\\, s.r.o. + představení kandidáta formou videa\\n\\n\\n\\nVyplněný a podepsaný hlasovací lístek naskenujte a zašlete na e-mailovou adresu hlasovani@solarniasociace.cz\\, a to nejpozději do 31.&nbsp\\;7.&nbsp\\;2024 do 12:00 hod.\\nWebinář k&nbsp\\;valné hromadě ke shlédnutí zde\\n
URL:https://solarniasociace.cz/akce/hlasovani-valne-hromady-per-rollam/
ORGANIZER;CN="Solární asociace":MAILTO:sekretariat@solarniasociace.cz
END:VEVENT
END:VCALENDAR