BEGIN:VCALENDAR
VERSION:2.0
PRODID:-//Solární asociace - ECPv6.8.2.1//NONSGML v1.0//EN
CALSCALE:GREGORIAN
METHOD:PUBLISH
X-WR-CALNAME:Solární asociace
X-ORIGINAL-URL:https://solarniasociace.cz
X-WR-CALDESC:Akce na Solární asociace
REFRESH-INTERVAL;VALUE=DURATION:PT1H
X-Robots-Tag:noindex
X-PUBLISHED-TTL:PT1H
BEGIN:VTIMEZONE
TZID:Europe/Prague
BEGIN:DAYLIGHT
TZOFFSETFROM:+0100
TZOFFSETTO:+0200
TZNAME:CEST
DTSTART:20270330T010000
END:DAYLIGHT
BEGIN:STANDARD
TZOFFSETFROM:+0200
TZOFFSETTO:+0100
TZNAME:CET
DTSTART:20271026T010000
END:STANDARD
END:VTIMEZONE
BEGIN:VEVENT
DTSTART;TZID=Europe/Prague:20240409T130000
DTEND;TZID=Europe/Prague:20240409T170000
DTSTAMP:20260421T153826
CREATED:20250501T175520Z
LAST-MODIFIED:20250501T175520Z
UID:1591-1712667600-1712682000@solarniasociace.cz
SUMMARY:Workshop: Hybridní měniče a paralelní propojování
DESCRIPTION:Photon Energy zve instalátory fotovoltaiky na bezplatný workshop\\, jehož hlavní náplní je představení hybridních měničů Solinteg a baterií Dyness a možností paralelního propojení.\\nHybridní měniče Solinteg nedávno úspěšně prošly testy pro provoz v distribučních soustavách na Slovensku. Photon Energy je oficiálním partnerem a distributorem značek Solineg a Dyness.\\nVíce informací a registrace: https://www.photonenergy.cz/cs/reseni/workshopy-a-skoleni\\n
URL:https://solarniasociace.cz/akce/workshop-hybridni-menice-a-paralelni-propojovani/
LOCATION:Hotel Tenis\\, HOTEL TENIS\\, Neresnická cesta 13\\, Zvolen-Pod Dráhy\\, Slovensko
END:VEVENT
END:VCALENDAR