BEGIN:VCALENDAR
VERSION:2.0
PRODID:-//Solární asociace - ECPv6.8.2.1//NONSGML v1.0//EN
CALSCALE:GREGORIAN
METHOD:PUBLISH
X-WR-CALNAME:Solární asociace
X-ORIGINAL-URL:https://solarniasociace.cz
X-WR-CALDESC:Akce na Solární asociace
REFRESH-INTERVAL;VALUE=DURATION:PT1H
X-Robots-Tag:noindex
X-PUBLISHED-TTL:PT1H
BEGIN:VTIMEZONE
TZID:Europe/Prague
BEGIN:DAYLIGHT
TZOFFSETFROM:+0100
TZOFFSETTO:+0200
TZNAME:CEST
DTSTART:20270330T010000
END:DAYLIGHT
BEGIN:STANDARD
TZOFFSETFROM:+0200
TZOFFSETTO:+0100
TZNAME:CET
DTSTART:20271026T010000
END:STANDARD
END:VTIMEZONE
BEGIN:VEVENT
DTSTART;TZID=Europe/Prague:20240228T090000
DTEND;TZID=Europe/Prague:20240301T170000
DTSTAMP:20260421T185813
CREATED:20250501T180403Z
LAST-MODIFIED:20250501T180423Z
UID:1599-1709110800-1709312400@solarniasociace.cz
SUMMARY:Veletrh KEY – THE ENERGY TRANSITION EXPO 2024
DESCRIPTION:Italsko-česká obchodní komora\\, která je oficiálním partnerem veletrhu\\, Vás zve na veletrh KEY – THE ENERGY TRANSITION EXPO 2024 věnovaný obnovitelným zdrojům energie\\, jehož 2.&nbsp\\;samostatný ročník se bude konat v termínu 28.&nbsp\\;února – 1.&nbsp\\;března 2024\\, v&nbsp\\;Rimini\\, v&nbsp\\;Itálii.\\n\\nV minulosti se veletrh KEY zaměřený zejména na obnovitelné zdroje energie konal vždy souběžně s veletrhem Ecomondo\\, ale vzhledem k velkému rozvoji oboru v posledních letech došlo od roku 2023 k oddělení těchto dvou událostí.\\nVeletrh KEY 2024 bude rozdělen do 7 základních témat:\\n\\nSOLAR EXHIBITION &amp\\; CONFERENCE (SEC)– fotovoltaika a skladování solární energie\\nWIND EXPO FOR MED (WEM)– technologie a služby pro výstavbu a provoz větrných elektráren\\nHYDROGEN EXPO (HYE) – technologie a projekty pro výrobu a skladování vodíku\\nENERGY EFFICIENCY EXPO (EFFI) – energetická úspornost v průmyslu a budovách\\, technologie a služby pro optimalizaci energetické spotřeby a snižování uhlíkové stopy\\ne-MOBILITY EXPO (EME) – udržitelná elektromobilita\\, nabíjecí infrastruktura\\nSUSTAINABLE CITY – speciální projekty zaměřené na transformaci měst podle modelu inteligentního města\\nKEY STORAGE EXPO (KSE) – nová část věnovaná záložním zdrojům energie pro domácnosti i průmysl\\n\\nV současné době jako oficiální partner veletrhu zveme na veletrh KEY 2024 potenciální nákupčí z České republiky. Nákupčím registrovaným přes naši Komoru veletrh uhradí většinu nákladů spojených s návštěvou veletrhu. Podmínkou této hrazené účasti je uskutečnit během konání veletrhu 10 B2B schůzek s přihlášenými vystavovateli\\, které si sami vyberete podle oblasti Vašeho zájmu a schůzky s nimi si sami naplánujete dle svých časových možností.\\nV rámci balíčku pro buyery nabízíme ZDARMA:\\nØ       Ubytování na 3 noci v&nbsp\\;hotelu se snídaní\\nØ       Transfer letiště-hotel a zpět (z&nbsp\\;letiště v Boloni\\, Rimini či Anconě)\\nØ       Denní transfer z&nbsp\\;hotelu na veletrh a zpět\\nØ       Vstupenka na veletrh\\nØ       Obědy na veletrhu v&nbsp\\;sekci Buyers‘ Lounge\\nØ       Tlumočníka pro B2B obchodní schůzky v případě\\, že nemluvíte anglicky nebo italsky\\nØ       Přístup do Buyers Lounge s možností využití šatny\\, počítačů\\, wi-fi\\, tiskárny\\, kopírky a klidové zóny s občerstvením\\nPozn.: nabídka platí pouze pro 1 osobu za firmu a nezahrnuje dopravu do/z Itálie\\nPokud se chce nákupčí veletrhu zúčastnit spolu s další osobou\\, pak si doprovázející osoba hradí sama ubytování a dopravu ČR-IT a zpět\\, ale ostatní služby typu transfer letiště-hotel\\, denní transfery na veletrh apod. může využívat bezplatně spolu s buyerem.\\nV případě zájmu se prosím přihlaste k účasti na veletrhu co nejdříve\\, nejdéle však do 21.&nbsp\\;ledna 2024 přes tento link: http://buyers.iegexpo.it/ken24/en/step0?agente=3831090 .\\n
URL:https://solarniasociace.cz/akce/veletrh-key-the-energy-transition-expo-2024/
LOCATION:Provincie Rimini\\, Rimini\\, Itálie
END:VEVENT
END:VCALENDAR