BEGIN:VCALENDAR
VERSION:2.0
PRODID:-//Solární asociace - ECPv6.8.2.1//NONSGML v1.0//EN
CALSCALE:GREGORIAN
METHOD:PUBLISH
X-WR-CALNAME:Solární asociace
X-ORIGINAL-URL:https://solarniasociace.cz
X-WR-CALDESC:Akce na Solární asociace
REFRESH-INTERVAL;VALUE=DURATION:PT1H
X-Robots-Tag:noindex
X-PUBLISHED-TTL:PT1H
BEGIN:VTIMEZONE
TZID:Europe/Prague
BEGIN:DAYLIGHT
TZOFFSETFROM:+0100
TZOFFSETTO:+0200
TZNAME:CEST
DTSTART:20270330T010000
END:DAYLIGHT
BEGIN:STANDARD
TZOFFSETFROM:+0200
TZOFFSETTO:+0100
TZNAME:CET
DTSTART:20271026T010000
END:STANDARD
END:VTIMEZONE
BEGIN:VEVENT
DTSTART;TZID=Europe/Prague:20240116T130000
DTEND;TZID=Europe/Prague:20240116T170000
DTSTAMP:20260421T220644
CREATED:20250501T180948Z
LAST-MODIFIED:20250501T180948Z
UID:1604-1705410000-1705424400@solarniasociace.cz
SUMMARY:Workshop Photon Energy: Paralelní propojování střídačů
DESCRIPTION:Photon Energy zve instalátory fotovoltaiky na bezplatný workshop na téma paralelního propojování hybridních střídačů Solinteg a baterií Dyness Tower a s&nbsp\\;ním spojených možností škálování bateriových úložišť pro rezidenční i menší komerční FV instalace.\\nAkce se uskuteční přímo v&nbsp\\;laboratoři firmy Solinteg v&nbsp\\;Brně.\\nNa akci je třeba se registrovat. Více informací: https://www.photonenergy.cz/cs/clanek/paralelni-propojovani-solarnich-stridacu-solinteg-workshop-pro-instalatory\\n
URL:https://solarniasociace.cz/akce/workshop-photon-energy-paralelni-propojovani-stridacu/
LOCATION:Solinteg Laboratory Brno\\, Solinteg Laboratory Brno\\, Karlova\\, Brno-Maloměřice a Obřany\\, Česko
END:VEVENT
END:VCALENDAR