BEGIN:VCALENDAR
VERSION:2.0
PRODID:-//Solární asociace - ECPv6.8.2.1//NONSGML v1.0//EN
CALSCALE:GREGORIAN
METHOD:PUBLISH
X-WR-CALNAME:Solární asociace
X-ORIGINAL-URL:https://solarniasociace.cz
X-WR-CALDESC:Akce na Solární asociace
REFRESH-INTERVAL;VALUE=DURATION:PT1H
X-Robots-Tag:noindex
X-PUBLISHED-TTL:PT1H
BEGIN:VTIMEZONE
TZID:Europe/Prague
BEGIN:DAYLIGHT
TZOFFSETFROM:+0100
TZOFFSETTO:+0200
TZNAME:CEST
DTSTART:20270330T010000
END:DAYLIGHT
BEGIN:STANDARD
TZOFFSETFROM:+0200
TZOFFSETTO:+0100
TZNAME:CET
DTSTART:20271026T010000
END:STANDARD
END:VTIMEZONE
BEGIN:VEVENT
DTSTART;TZID=Europe/Prague:20231026T080000
DTEND;TZID=Europe/Prague:20231027T170000
DTSTAMP:20260421T234534
CREATED:20250501T181732Z
LAST-MODIFIED:20250501T181732Z
UID:1612-1698307200-1698426000@solarniasociace.cz
SUMMARY:Solarise! CEE 2023
DESCRIPTION:Mezinárodní konference a výstava Solarise! CEE 2023 zaměřená na solární sektor se uskuteční tentokrát v&nbsp\\;České republice. Hlavním tématem je solární energie a její implementace ve střední a východní Evropě. Solární asociace je hlavním partnerem se zastoupením výkonného ředitele Jana Krčmáře\\, předsedy představenstva Jan Fouska a experta na agrivoltaiku Jiřího Bíma.\\nCelý program včetně registrace naleznete na stránkách Solarise! CEE 2023\\n
URL:https://solarniasociace.cz/akce/solarise-cee-2023/
LOCATION:O2 universum - kongresové centrum v Praze\\, O2 universum\\, Českomoravská\\, Praha 9-Libeň\\, Česko
END:VEVENT
END:VCALENDAR