BEGIN:VCALENDAR
VERSION:2.0
PRODID:-//Solární asociace - ECPv6.8.2.1//NONSGML v1.0//EN
CALSCALE:GREGORIAN
METHOD:PUBLISH
X-WR-CALNAME:Solární asociace
X-ORIGINAL-URL:https://solarniasociace.cz
X-WR-CALDESC:Akce na Solární asociace
REFRESH-INTERVAL;VALUE=DURATION:PT1H
X-Robots-Tag:noindex
X-PUBLISHED-TTL:PT1H
BEGIN:VTIMEZONE
TZID:Europe/Prague
BEGIN:DAYLIGHT
TZOFFSETFROM:+0100
TZOFFSETTO:+0200
TZNAME:CEST
DTSTART:20270330T010000
END:DAYLIGHT
BEGIN:STANDARD
TZOFFSETFROM:+0200
TZOFFSETTO:+0100
TZNAME:CET
DTSTART:20271026T010000
END:STANDARD
END:VTIMEZONE
BEGIN:VEVENT
DTSTART;TZID=Europe/Prague:20231019T130000
DTEND;TZID=Europe/Prague:20231019T150000
DTSTAMP:20260421T235019
CREATED:20250501T181825Z
LAST-MODIFIED:20250606T133622Z
UID:1613-1697720400-1697727600@solarniasociace.cz
SUMMARY:Jednání pracovní skupiny pro velké zdroje
DESCRIPTION:Dovolujeme si pozvat členy Solární asociace a zároveň členy pracovní skupiny na další jednání.\\nProgram:\\n\\nAktuální informace (dotační programy\\, problematika připojování atd.)\\nJan Krčmář\\, Solární asociace\\nKrajinný ráz a charakter území z hlediska investora do FVE\\nSimona Vondráčková\\, ČVUT\\nProjektování bezpečných\\, kvalitních a ekonomických konstrukcí pro pozemní fotovoltaiku v Evropě\\nJan Brejcha\\, Country Manager\\, Energy5\\nAkcelerační zóny a otázky kolem povolování vedení přípojek\\nPavel Doucha\\, AK Doucha Šikola\\nAgrovoltaika: aktuální informace (stav legislativy atd.)\\nJiří Bím\\, Solární asociace\\n&nbsp\\;\\nREGISTRACE ZDE\\n&nbsp\\;\\nORGANIZAČNÍ POKYNY: \\n\\nDovolujeme si Vás upozornit\\, že setkání je určené pouze pro členy Solární asociace a účast není spojena s žádným finančním příspěvkem.\\nZměna programu vyhrazena.\\nRegistrace končí 17.10.&nbsp\\;v&nbsp\\;15.00 hod.\\nV případě Vašeho zájmu o účast v této skupině\\n\\nprosím neváhejte kontaktovat paní Michaelu Černou\\, M: +420&nbsp\\;724&nbsp\\;486 254\\n\\n\\n
URL:https://solarniasociace.cz/akce/jednani-pracovni-skupiny-pro-velke-zdroje-2/
LOCATION:Absolutum Wellness Hotel\\, Absolutum Wellness Hotel\\, Jablonského 639/4\\, Praha 7-Holešovice\\, Česko
END:VEVENT
END:VCALENDAR