BEGIN:VCALENDAR
VERSION:2.0
PRODID:-//Solární asociace - ECPv6.8.2.1//NONSGML v1.0//EN
CALSCALE:GREGORIAN
METHOD:PUBLISH
X-WR-CALNAME:Solární asociace
X-ORIGINAL-URL:https://solarniasociace.cz
X-WR-CALDESC:Akce na Solární asociace
REFRESH-INTERVAL;VALUE=DURATION:PT1H
X-Robots-Tag:noindex
X-PUBLISHED-TTL:PT1H
BEGIN:VTIMEZONE
TZID:Europe/Prague
BEGIN:DAYLIGHT
TZOFFSETFROM:+0100
TZOFFSETTO:+0200
TZNAME:CEST
DTSTART:20270330T010000
END:DAYLIGHT
BEGIN:STANDARD
TZOFFSETFROM:+0200
TZOFFSETTO:+0100
TZNAME:CET
DTSTART:20271026T010000
END:STANDARD
END:VTIMEZONE
BEGIN:VEVENT
DTSTART;TZID=Europe/Prague:20230921T090000
DTEND;TZID=Europe/Prague:20230921T170000
DTSTAMP:20260422T013148
CREATED:20250501T182221Z
LAST-MODIFIED:20250501T182221Z
UID:1618-1695286800-1695315600@solarniasociace.cz
SUMMARY:8.&nbsp\\;ročník konference Požární bezpečnost staveb
DESCRIPTION:Konferenci Požární bezpečnost staveb pořádá portál TZB-info ve spolupráci s&nbsp\\;Profesní komorou požární ochrany. Každý ročník je připravován tak\\, aby užitečné a zajímavé informace v&nbsp\\;programu nalezli nejen hasiči\\, ale také stavební odborníci\\, architekti a specialisté technických zařízení budov. Tradicí jsou přednášky autorů významných staveb u nás i v&nbsp\\;zahraničí o řešení bezpečnosti v&nbsp\\;kontextu celkového návrhu a realizace jejich projektu. Odborní komentátoři prezentují aktuality a zajímavosti ze stavební praxe\\, legislativy a zkušebnictví. Na konferenci mají své slovo zástupci Hasičského záchranného sboru\\, akademičtí pracovníci\\, projekční ateliéry a experti ze stavební praxe. Na dotazy k&nbsp\\;jednotlivým tématům konference přednášející odpovídají v&nbsp\\;několika panelových diskusích. Další podrobnosti a analýzy zaznívají díky interakci mezi jednotlivými přednášejícími\\, posluchači konference a moderátory.\\n\\nZaměření konference\\nKonference Požární bezpečnost staveb 2023 reaguje na nejaktuálnější dění v oboru požární bezpečnosti staveb. Diskutovat se budou dvě klíčová témata:\\n\\nNavrhování vysokopodlažních dřevostaveb z hlediska konstrukčních možností využití křížem lepeného dřeva CLT a požární bezpečnosti\\nHromadné garáže z hlediska zajištění požární bezpečnosti\\, úniku osob a zásahu IZS při nástupu elektromobility a realizaci nabíjecích stanic v garážích\\n\\n\\nPřipravovaná témata jsou předmětem diskusí jak mezi experty z oboru stavebnictví\\, developery a specialisty požární bezpečnosti na půdě České republiky\\, tak na úrovni evropské normalizace. V době před konáním konference očekáváme posun v tvorbě předpisů v diskutovaných oborech. Konference je proto jedinečnou příležitostí\\, jak se s nejaktuálnějšími závěry připravovaných témat prostřednictvím přednášek a panelových diskusí s nejpovolanějšími experty seznámit.\\nCílovou skupinou jsou hasiči\\, stavaři\\, projektanti\\, architekti\\, specialisté technologií\\, facility manažeři i další odborníci a zástupci bezpečnostních agentur. Akce bude přihlášena do celoživotního vzdělávání ČKAIT a ČKA.\\nVíze informací naleznete na stránkách konference\\n
URL:https://solarniasociace.cz/akce/8-rocnik-konference-pozarni-bezpecnost-staveb/
LOCATION:PVA EXPO PRAHA\\, PVA EXPO PRAHA\\, Beranových 667\\, Praha 9\\, Česko
END:VEVENT
END:VCALENDAR