BEGIN:VCALENDAR
VERSION:2.0
PRODID:-//Solární asociace - ECPv6.8.2.1//NONSGML v1.0//EN
CALSCALE:GREGORIAN
METHOD:PUBLISH
X-WR-CALNAME:Solární asociace
X-ORIGINAL-URL:https://solarniasociace.cz
X-WR-CALDESC:Akce na Solární asociace
REFRESH-INTERVAL;VALUE=DURATION:PT1H
X-Robots-Tag:noindex
X-PUBLISHED-TTL:PT1H
BEGIN:VTIMEZONE
TZID:Europe/Prague
BEGIN:DAYLIGHT
TZOFFSETFROM:+0100
TZOFFSETTO:+0200
TZNAME:CEST
DTSTART:20270330T010000
END:DAYLIGHT
BEGIN:STANDARD
TZOFFSETFROM:+0200
TZOFFSETTO:+0100
TZNAME:CET
DTSTART:20271026T010000
END:STANDARD
END:VTIMEZONE
BEGIN:VEVENT
DTSTART;TZID=Europe/Prague:20230920T090000
DTEND;TZID=Europe/Prague:20230920T123000
DTSTAMP:20260422T011733
CREATED:20250501T182316Z
LAST-MODIFIED:20250501T182316Z
UID:1619-1695200400-1695213000@solarniasociace.cz
SUMMARY:Pozvánka na seminář: Měření elektrických a neelektrických veličin v&nbsp\\;dnešní podnikové praxi
DESCRIPTION:Pozvanka seminář Micronix 2023_20092023\\n&nbsp\\;\\nVíce informací na www.micronix.cz\\n&nbsp\\;\\n
URL:https://solarniasociace.cz/akce/pozvanka-na-seminar-mereni-elektrickych-a-neelektrickych-velicin-v-dnesni-podnikove-praxi/
LOCATION:AVANT Business Centrum\\, AVANT Business Centrum\\, Hvězdova 1716\\, Praha 4-Nusle\\, Česko
END:VEVENT
END:VCALENDAR