BEGIN:VCALENDAR
VERSION:2.0
PRODID:-//Solární asociace - ECPv6.8.2.1//NONSGML v1.0//EN
CALSCALE:GREGORIAN
METHOD:PUBLISH
X-WR-CALNAME:Solární asociace
X-ORIGINAL-URL:https://solarniasociace.cz
X-WR-CALDESC:Akce na Solární asociace
REFRESH-INTERVAL;VALUE=DURATION:PT1H
X-Robots-Tag:noindex
X-PUBLISHED-TTL:PT1H
BEGIN:VTIMEZONE
TZID:Europe/Prague
BEGIN:DAYLIGHT
TZOFFSETFROM:+0100
TZOFFSETTO:+0200
TZNAME:CEST
DTSTART:20270330T010000
END:DAYLIGHT
BEGIN:STANDARD
TZOFFSETFROM:+0200
TZOFFSETTO:+0100
TZNAME:CET
DTSTART:20271026T010000
END:STANDARD
END:VTIMEZONE
BEGIN:VEVENT
DTSTART;TZID=Europe/Prague:20230918T130000
DTEND;TZID=Europe/Prague:20230918T150000
DTSTAMP:20260422T011206
CREATED:20250501T182422Z
LAST-MODIFIED:20250501T182422Z
UID:1620-1695042000-1695049200@solarniasociace.cz
SUMMARY:Pozvánka: recyklace fotovoltaických panelů a exkurze do laboratoře diagnostiky fotovoltaikých systémů
DESCRIPTION:Chcete se dozvědět\\, jak se recyklují fotovoltaické panely v&nbsp\\;ČR\\, EU a jaké jsou trendy ve vývoji technologií panelů ve světě? Ukážeme Vám výstupy z&nbsp\\;recyklace i výrobky ze získaných surovin a provedeme Vás laboratoří pro diagnostiku fotovoltaických systémů s&nbsp\\;odborným výkladem.\\nProgram:\\n13:00 – 13:20 Uvítání návštěvníků zástupci REsolar (Václav Douda) a FEL ČVUT (Ing. Pavel Hrzina\\, Ph.D.)\\n13:20 – 14:00 Přednáška na téma recyklace fotovoltaických panelů\\, aktuální trendy\\, ukázka výstupů. Diskuse.\\n14:00 – 15:00 Laboratoř diagnostiky fotovoltaických systémů Katedry elektrotechnologie ČVUT v&nbsp\\;Praze\\, FEL\\nOstatní informace:\\n\\nExkurze je určena klientům kolektivního systému REsolar a členům Solární asociace z&nbsp\\;řad provozovatelů FVE.\\nPřednáška a exkurze nejsou zpoplatněny.\\nPočet účastníků je omezen na 40 osob.\\nRegistrace končí 15.&nbsp\\;9.&nbsp\\;2023 ve 14:00.\\nSvou účast\\, prosím\\, potvrďte pomocí registračního formuláře.\\n\\n
URL:https://solarniasociace.cz/akce/pozvanka-recyklace-fotovoltaickych-panelu-a-exkurze-do-laboratore-diagnostiky-fotovoltaikych-systemu/
LOCATION:Fakulta elektrotechnická ČVUT v Praze\\, Fakulta elektrotechnická ČVUT v Praze\\, Technická 2\\, Praha 6 - Dejvice-Praha 6\\, Česko
END:VEVENT
END:VCALENDAR