BEGIN:VCALENDAR
VERSION:2.0
PRODID:-//Solární asociace - ECPv6.8.2.1//NONSGML v1.0//EN
CALSCALE:GREGORIAN
METHOD:PUBLISH
X-WR-CALNAME:Solární asociace
X-ORIGINAL-URL:https://solarniasociace.cz
X-WR-CALDESC:Akce na Solární asociace
REFRESH-INTERVAL;VALUE=DURATION:PT1H
X-Robots-Tag:noindex
X-PUBLISHED-TTL:PT1H
BEGIN:VTIMEZONE
TZID:Europe/Prague
BEGIN:DAYLIGHT
TZOFFSETFROM:+0100
TZOFFSETTO:+0200
TZNAME:CEST
DTSTART:20270330T010000
END:DAYLIGHT
BEGIN:STANDARD
TZOFFSETFROM:+0200
TZOFFSETTO:+0100
TZNAME:CET
DTSTART:20271026T010000
END:STANDARD
END:VTIMEZONE
BEGIN:VEVENT
DTSTART;TZID=Europe/Prague:20230914T090000
DTEND;TZID=Europe/Prague:20230914T160000
DTSTAMP:20260422T011036
CREATED:20250501T182634Z
LAST-MODIFIED:20250501T182634Z
UID:1622-1694682000-1694707200@solarniasociace.cz
SUMMARY:Konference Fotovoltaika v&nbsp\\;praxi
DESCRIPTION:Konference o vývoji fotovoltaiky v ČR určená pro investory z&nbsp\\;řad firemního prostředí i sektoru veřejné správy. Nabídne aktuální informace o podmínkách pro rozvoj FVE v ČR z pohledu legislativního i ekonomického. Představí zkušenosti z praxe firem s ohledem na proces přípravy projektů a jejich úspěšnou realizaci.\\nÚčast je možná osobně v Praze nebo on-line sledování. Záznam konference bude účastníkům k dispozici. Více na www.vidacon.cz/FVE2023\\n&nbsp\\;\\nProgram konference:\\nModeruje: Jan Fousek\\, výkonný ředitel\\, Asociace AKU-BAT CZ &amp\\; Předseda představenstva\\, Solární\\nAsociace\\nAktuální situace ve fotovoltaice a bariéry dalšího rozvoje\\nJan Krčmář\\, výkonný ředitel\\, Solární asociace\\nLegislativní podmínky rozvoje obnovitelných zdrojů\\nRené Neděla\\, zástupce vrchního ředitele\\, Sekce energetiky a jaderných zdrojů\\, Ministerstvo průmyslu a obchodu ČR\\nPodpora rozvoje nových FVE – akcelerační zóny\\nEva Volfová\\, náměstkyně člena vlády\\, Ministerstvo životního prostředí ČR\\nSdílení elektřiny v&nbsp\\;bytových domech\\nAlexandr Černý\\, ředitel Odboru technické regulace elektroenergetiky a plynárenství\\, Energetický regulační úřad\\nPovolovací procesy na stavbu fotovoltaických elektráren – aplikace LEX OZE 1 v praxi a další\\nPavel Doucha\\, partner\\, Doucha Šikola advokáti\\, s.r.o.\\nSoučasná situace v&nbsp\\;připojování nových FVE\\, vývoj investic do distribuční soustavy\\nLucie Masopustová\\, členka představenstva\\, ČEZ Distribuce\\, a.s.\\n\\nJak naložit s&nbsp\\;přetoky energie z&nbsp\\;FVE do sítě?\\nZdeněk Tříska\\, výkonný ředitel\\, Solar Global\\, a.s.\\nJak probíhá realizace nových pozemních FVE?\\nPetr Ondřej\\, AS Construction s.r.o.\\nŘešení dodávek elektřiny a energetické bezpečnosti v průmyslu\\nRadim Kolařík\\, vedoucí oddělení investic a energetiky\\, Constellium Extrusions Děčín s.r.o.\\nRealizace FV elektráren na střechách prodejen Lidl\\nMartin Černý\\, konzultant oddělení Facility managementu\\, Lidl Česká republika\\, v.o.s.\\nFVE ve spojení s  distribuční soustavou vlastněnou městem\\nVladimír Buřt\\, starosta\\, Město Horní Jiřetín\\n
URL:https://solarniasociace.cz/akce/konference-fotovoltaika-v-praxi/
LOCATION:Hotel Artemis\\, Hotel Artemis\\, U Sluncové 14\\, Praha 8-Invalidovna\\, Česko
END:VEVENT
END:VCALENDAR