BEGIN:VCALENDAR
VERSION:2.0
PRODID:-//Solární asociace - ECPv6.8.2.1//NONSGML v1.0//EN
CALSCALE:GREGORIAN
METHOD:PUBLISH
X-WR-CALNAME:Solární asociace
X-ORIGINAL-URL:https://solarniasociace.cz
X-WR-CALDESC:Akce na Solární asociace
REFRESH-INTERVAL;VALUE=DURATION:PT1H
X-Robots-Tag:noindex
X-PUBLISHED-TTL:PT1H
BEGIN:VTIMEZONE
TZID:Europe/Prague
BEGIN:DAYLIGHT
TZOFFSETFROM:+0100
TZOFFSETTO:+0200
TZNAME:CEST
DTSTART:20270330T010000
END:DAYLIGHT
BEGIN:STANDARD
TZOFFSETFROM:+0200
TZOFFSETTO:+0100
TZNAME:CET
DTSTART:20271026T010000
END:STANDARD
END:VTIMEZONE
BEGIN:VEVENT
DTSTART;TZID=Europe/Prague:20230607T130000
DTEND;TZID=Europe/Prague:20230607T153000
DTSTAMP:20260422T024853
CREATED:20250501T182959Z
LAST-MODIFIED:20250501T183028Z
UID:1625-1686142800-1686151800@solarniasociace.cz
SUMMARY:Jednání pracovní skupiny pro malé zdroje
DESCRIPTION:\\nDovolujeme si Vás pozvat na další setkání pracovní skupiny pro malé zdroje a akumulaci.\\nPROGRAM:        \\n  13:00 – 15:00 hod. \\n\\n Zahájení a shrnutí prioritních bodů\\nPavel Hrzina\\, vedoucí pracovní skupiny\\n\\n\\n Fázové měření – zhodnocení ČVUT\\n Pavel Hrzina\\, vedoucí pracovní skupiny\\,\\nRostislav Krejcar\\, vědecký pracovník\\, ČVUT\\n\\n\\n Požární bezpečnost\\, novinky a postup\\nPavel Hrzina\\, vedoucí pracovní skupiny\\, zástupce požárníků\\n\\n\\n Nejčastější závady a problémy s&nbsp\\;připojováním výroben\\n Pithart Jan\\, VODB Měření\\,  ČEZ Distribuce\\, a.s. \\,  Zlámal Jiří\\, Servisní podpor\\, ČEZ Distribuce\\, a.s. \\n\\n&nbsp\\;\\nDiskuze a připomínky\\nORGANIZAČNÍ POKYNY: \\n\\nDovolujeme si Vás upozornit\\, že setkání je určené pouze pro členy Solární asociace. Účast není spojena s žádným finančním příspěvkem.\\nZměna programu vyhrazena.\\nRegistrace končí 6.&nbsp\\;ve 13:00 hod\\n\\n&nbsp\\;\\n\\n\\n \\n\\n
URL:https://solarniasociace.cz/akce/jednani-pracovni-skupiny-pro-male-zdroje-3/
LOCATION:Vedle Space - konferenční prostor a podcast studio\\, Vedle Space - konferenční prostor a podcast studio\\, Vchod E\\, Štefánikova 43a\\, Praha 5-Smíchov\\, Česko
END:VEVENT
END:VCALENDAR