BEGIN:VCALENDAR
VERSION:2.0
PRODID:-//Solární asociace - ECPv6.8.2.1//NONSGML v1.0//EN
CALSCALE:GREGORIAN
METHOD:PUBLISH
X-WR-CALNAME:Solární asociace
X-ORIGINAL-URL:https://solarniasociace.cz
X-WR-CALDESC:Akce na Solární asociace
REFRESH-INTERVAL;VALUE=DURATION:PT1H
X-Robots-Tag:noindex
X-PUBLISHED-TTL:PT1H
BEGIN:VTIMEZONE
TZID:Europe/Prague
BEGIN:DAYLIGHT
TZOFFSETFROM:+0100
TZOFFSETTO:+0200
TZNAME:CEST
DTSTART:20270330T010000
END:DAYLIGHT
BEGIN:STANDARD
TZOFFSETFROM:+0200
TZOFFSETTO:+0100
TZNAME:CET
DTSTART:20271026T010000
END:STANDARD
END:VTIMEZONE
BEGIN:VEVENT
DTSTART;TZID=Europe/Prague:20250520T140000
DTEND;TZID=Europe/Prague:20250520T153000
DTSTAMP:20260420T212739
CREATED:20250514T111124Z
LAST-MODIFIED:20250514T112942Z
UID:1644-1747749600-1747755000@solarniasociace.cz
SUMMARY:Webinář: Urychlení žádostí o dotaci a úvěr od Národní rozvojové banky: nejčastější chyby a dotazy
DESCRIPTION:Vážení členové\\,\\nrádi bychom Vás srdečně pozvali spolu s Národní rozvojovou bankou na nadcházející webinář s&nbsp\\;názvem &#8222\\;Urychlení žádostí o dotaci a úvěr od Národní rozvojové banky: nejčastější chyby a dotazy“. Dozvíte se jaké jsou nejčastější chyby při podávání žádostí\\, co nejvíc zdržuje administraci či harmonogram zpracování žádostí. Během prezentace budete mít možnost klást dotazy a získat odpovědi na konkrétní otázky\\, které Vás zajímají.\\nPřipojte se k&nbsp\\;nám a získejte cenné informace\\, které Vám mohou pomoci úspěšně využít aktuální dotační výzvy.\\nTěšíme se na vaše dotazy!\\n\\nModerátor: Jan Krčmář\\, výkonný ředitel Solární asociace\\nPŘEDNÁŠEJÍCÍ:\\n\\nHubert Kincl\\, Manažer vývoje produktu\\, Národní rozvojová banka\\n\\n\\nWebinář můžete sledovat níže nebo na této adrese: https://www.solarniasociace.cz/webinare/\\n\\nDotazy můžete pokládat v přes SLI.DO (kód: # FVENRB)\\n
URL:https://solarniasociace.cz/akce/webinar-urychleni-zadosti-o-dotaci-a-uver-od-narodni-rozvojove-banky-nejcastejsi-chyby-a-dotazy/
ATTACH;FMTTYPE=image/webp:https://solarniasociace.cz/wp-content/uploads/2025/04/5_Letni-den_Pistek-980x653-1-1-300x200.webp
ORGANIZER;CN="Solární asociace":MAILTO:sekretariat@solarniasociace.cz
END:VEVENT
END:VCALENDAR