BEGIN:VCALENDAR
VERSION:2.0
PRODID:-//Solární asociace - ECPv6.8.2.1//NONSGML v1.0//EN
CALSCALE:GREGORIAN
METHOD:PUBLISH
X-WR-CALNAME:Solární asociace
X-ORIGINAL-URL:https://solarniasociace.cz
X-WR-CALDESC:Akce na Solární asociace
REFRESH-INTERVAL;VALUE=DURATION:PT1H
X-Robots-Tag:noindex
X-PUBLISHED-TTL:PT1H
BEGIN:VTIMEZONE
TZID:Europe/Prague
BEGIN:DAYLIGHT
TZOFFSETFROM:+0100
TZOFFSETTO:+0200
TZNAME:CEST
DTSTART:20270330T010000
END:DAYLIGHT
BEGIN:STANDARD
TZOFFSETFROM:+0200
TZOFFSETTO:+0100
TZNAME:CET
DTSTART:20271026T010000
END:STANDARD
END:VTIMEZONE
BEGIN:VEVENT
DTSTART;TZID=Europe/Prague:20250612T100000
DTEND;TZID=Europe/Prague:20250612T120000
DTSTAMP:20260420T195426
CREATED:20250602T122348Z
LAST-MODIFIED:20250610T105322Z
UID:1742-1749722400-1749729600@solarniasociace.cz
SUMMARY:Setkání: Pracovní skupina pro malé zdroje a akumulaci
DESCRIPTION:Vážení členové pracovní skupiny\\,\\ndovolujeme si Vás pozvat na setkání pracovní skupiny pro malé zdroje a akumulaci. Doporučujeme především novým členům zapojit se do skupiny.\\nTémata:\\n\\nSouhrn aktivit a priorit\\nSoučasný stav trhu s&nbsp\\;mikrozdroji: Co se mění a co zůstává?\\nOdborný výklad nové normy 33&nbsp\\;2130 ed.4\\nBest practices realizace a připojení SVJ a BD\\nKomunitní sdílení energie v&nbsp\\;BD a SVJ\\n\\nPřednášející:\\n\\nTomáš Galęziok\\, technicko-legislativní expert\\, Solární asociace\\nLeopold Benda\\, jednatel společnosti\\, BENEKOVterm s. r. o.\\nAlexandr Černý\\, ředitel\\, sekce regulatorních činností a mezinárodní spolupráce\\, ERÚ\\n\\nREGISTRACE\\n
URL:https://solarniasociace.cz/akce/setkani-pracovni-skupina-pro-male-zdroje-a-akumulaci-4/
LOCATION:Vienna House by Wyndham Andel's Prague\\, Vienna House by Wyndham Andel's Prague\\, Stroupežnického\\, Praha 5-Smíchov\\, Česko
ORGANIZER;CN="Solární asociace":MAILTO:sekretariat@solarniasociace.cz
END:VEVENT
END:VCALENDAR