BEGIN:VCALENDAR
VERSION:2.0
PRODID:-//Solární asociace - ECPv6.8.2.1//NONSGML v1.0//EN
CALSCALE:GREGORIAN
METHOD:PUBLISH
X-WR-CALNAME:Solární asociace
X-ORIGINAL-URL:https://solarniasociace.cz
X-WR-CALDESC:Akce na Solární asociace
REFRESH-INTERVAL;VALUE=DURATION:PT1H
X-Robots-Tag:noindex
X-PUBLISHED-TTL:PT1H
BEGIN:VTIMEZONE
TZID:Europe/Prague
BEGIN:DAYLIGHT
TZOFFSETFROM:+0100
TZOFFSETTO:+0200
TZNAME:CEST
DTSTART:20270330T010000
END:DAYLIGHT
BEGIN:STANDARD
TZOFFSETFROM:+0200
TZOFFSETTO:+0100
TZNAME:CET
DTSTART:20271026T010000
END:STANDARD
END:VTIMEZONE
BEGIN:VEVENT
DTSTART;TZID=Europe/Prague:20250813T130000
DTEND;TZID=Europe/Prague:20250813T160000
DTSTAMP:20260420T170557
CREATED:20250728T104307Z
LAST-MODIFIED:20250728T104307Z
UID:2051-1755090000-1755100800@solarniasociace.cz
SUMMARY:Exkurze: Prohlídka FV elektrárny Agro Levín
DESCRIPTION:\\n
URL:https://solarniasociace.cz/akce/exkurze-prohlidka-fv-elektrarny-agro-levin/
LOCATION:Aquapalace Hotel Prague\\, Aquapalace Hotel Prague\\, Pražská\\, Čestlice-Říčany u Prahy\\, Česko
ORGANIZER;CN="Solární asociace":MAILTO:sekretariat@solarniasociace.cz
END:VEVENT
END:VCALENDAR