BEGIN:VCALENDAR
VERSION:2.0
PRODID:-//Solární asociace - ECPv6.8.2.1//NONSGML v1.0//EN
CALSCALE:GREGORIAN
METHOD:PUBLISH
X-WR-CALNAME:Solární asociace
X-ORIGINAL-URL:https://solarniasociace.cz
X-WR-CALDESC:Akce na Solární asociace
REFRESH-INTERVAL;VALUE=DURATION:PT1H
X-Robots-Tag:noindex
X-PUBLISHED-TTL:PT1H
BEGIN:VTIMEZONE
TZID:Europe/Prague
BEGIN:DAYLIGHT
TZOFFSETFROM:+0100
TZOFFSETTO:+0200
TZNAME:CEST
DTSTART:20270330T010000
END:DAYLIGHT
BEGIN:STANDARD
TZOFFSETFROM:+0200
TZOFFSETTO:+0100
TZNAME:CET
DTSTART:20271026T010000
END:STANDARD
END:VTIMEZONE
BEGIN:VEVENT
DTSTART;TZID=Europe/Prague:20251013T000000
DTEND;TZID=Europe/Prague:20251017T000000
DTSTAMP:20260420T134918
CREATED:20250805T143335Z
LAST-MODIFIED:20250805T143346Z
UID:2066-1760313600-1760659200@solarniasociace.cz
SUMMARY:Solarplaza Battery Tour China
DESCRIPTION:Vydejte se na intenzivní týden plný inspirace a poznatků o nejnovějších trendech v&nbsp\\;oblasti akumulace energie! Solarplaza Battery Tour Čína propojí mezinárodní odborníky z&nbsp\\;oblasti obnovitelných zdrojů – developery\\, EPC společnosti\\, investory a další – prostřednictvím exkurzí do továren na bateriové systémy (BESS)\\, návštěv konkrétních projektů i soukromých setkání.\\nTato výjimečná studijní cesta začne v&nbsp\\;Šanghaji a skončí v&nbsp\\;Šen-čenu/Guangzhou. Účastníci získají ucelený přehled o tom\\, co Čína nabízí v&nbsp\\;oblasti moderních technologií pro skladování energie. Součástí programu je nejen odborný obsah\\, ale i společné cestování\\, sdílené zážitky a skvělé networkingové příležitosti.\\n
URL:https://solarniasociace.cz/akce/solarplaza-battery-tour-china/
LOCATION:Čína\\, China
ATTACH;FMTTYPE=image/webp:https://solarniasociace.cz/wp-content/uploads/2025/07/BTCN25-Banners-Czech-Solar-Association2-300x156.webp
END:VEVENT
END:VCALENDAR