BEGIN:VCALENDAR
VERSION:2.0
PRODID:-//Solární asociace - ECPv6.8.2.1//NONSGML v1.0//EN
CALSCALE:GREGORIAN
METHOD:PUBLISH
X-WR-CALNAME:Solární asociace
X-ORIGINAL-URL:https://solarniasociace.cz
X-WR-CALDESC:Akce na Solární asociace
REFRESH-INTERVAL;VALUE=DURATION:PT1H
X-Robots-Tag:noindex
X-PUBLISHED-TTL:PT1H
BEGIN:VTIMEZONE
TZID:Europe/Prague
BEGIN:DAYLIGHT
TZOFFSETFROM:+0100
TZOFFSETTO:+0200
TZNAME:CEST
DTSTART:20270330T010000
END:DAYLIGHT
BEGIN:STANDARD
TZOFFSETFROM:+0200
TZOFFSETTO:+0100
TZNAME:CET
DTSTART:20271026T010000
END:STANDARD
END:VTIMEZONE
BEGIN:VEVENT
DTSTART;TZID=Europe/Prague:20251125T000000
DTEND;TZID=Europe/Prague:20251126T000000
DTSTAMP:20260420T110318
CREATED:20250827T141002Z
LAST-MODIFIED:20250827T141427Z
UID:2103-1764028800-1764115200@solarniasociace.cz
SUMMARY:Konference: Large Scale Solar Central and Eastern Europe
DESCRIPTION:Trh solární energie ve střední a východní Evropě si i v&nbsp\\;roce 2025 udržuje mimořádně dynamický růst. Výroba roste rychleji než v&nbsp\\;kterékoli jiné evropské oblasti a region se blíží historickému milníku – pokud současné tempo vydrží\\, do roku 2029 by mohl překonat i západní Evropu.\\nZároveň prudce expanduje trh s&nbsp\\;bateriovými úložišti\\, který má do roku 2030 vzrůst pětinásobně. To otevírá obrovské investiční příležitosti.\\nSummit propojí developery\\, investory\\, utility\\, výrobce technologií i další klíčové hráče\\, kteří stojí za rozvojem solární energetiky a úložišť v&nbsp\\;CEE regionu.\\nPřidejte se a získejte přehled o klíčových faktorech růstu: progresivní legislativa\\, reforma sítí\\, nové modely výkupu a další zásadní témata\\, která formují budoucnost velkých solárních projektů.\\n\\nREGISTRUJTE SE VČAS! Členové Solární asociace mají možnost získat slevový kód 20% z&nbsp\\;ceny vstupného. Napište si na e-mail nela.kojetinova@solarniasociace.cz.\\nVSTUPENKY ZDE\\n
URL:https://solarniasociace.cz/akce/konference-large-scale-solar-central-and-eastern-europe/
LOCATION:Warsaw Presidential Hotel\\, Warsaw Presidential Hotel\\, Aleje Jerozolimskie\\, Warsaw\\, Poland
ATTACH;FMTTYPE=image/webp:https://solarniasociace.cz/wp-content/uploads/2025/08/LSScee_1452-x-756_-300x156.webp
END:VEVENT
END:VCALENDAR