BEGIN:VCALENDAR
VERSION:2.0
PRODID:-//Solární asociace - ECPv6.8.2.1//NONSGML v1.0//EN
CALSCALE:GREGORIAN
METHOD:PUBLISH
X-WR-CALNAME:Solární asociace
X-ORIGINAL-URL:https://solarniasociace.cz
X-WR-CALDESC:Akce na Solární asociace
REFRESH-INTERVAL;VALUE=DURATION:PT1H
X-Robots-Tag:noindex
X-PUBLISHED-TTL:PT1H
BEGIN:VTIMEZONE
TZID:Europe/Prague
BEGIN:DAYLIGHT
TZOFFSETFROM:+0100
TZOFFSETTO:+0200
TZNAME:CEST
DTSTART:20270330T010000
END:DAYLIGHT
BEGIN:STANDARD
TZOFFSETFROM:+0200
TZOFFSETTO:+0100
TZNAME:CET
DTSTART:20271026T010000
END:STANDARD
END:VTIMEZONE
BEGIN:VEVENT
DTSTART;TZID=Europe/Prague:20251023T100000
DTEND;TZID=Europe/Prague:20251023T120000
DTSTAMP:20260420T123624
CREATED:20250912T210430Z
LAST-MODIFIED:20251001T154610Z
UID:2142-1761213600-1761220800@solarniasociace.cz
SUMMARY:Setkání: Pracovní skupina pro střešní FVE
DESCRIPTION:Vážení členové pracovní skupiny\\,\\ndovolujeme si Vás pozvat na setkání pracovní skupiny pro střešní fotovoltaiku. Doporučujeme především novým členům zapojit se do skupiny.\\nTémata:\\n\\nSouhrn aktivit a priorit\\nAktuální informace o stavu rozborového úkolu ČAS\\nKybernetická bezpečnost malých instalací\\nZměny a aktualizace PPDS (změny spojené s akumulací)\\nZměny podmínek udělování licencí\\n\\nPřednášející:\\n\\nPavel Hrzina\\, vedoucí pracovní skupiny pro střešní FVE\\nTomáš Galęziok\\, technicko-legislativní expert\\, Solární asociace\\nJakub Vaněk\\, obsluha zákazníků\\, ČEZ Distribuce\\, a. s.\\nLuboš Pohořelský\\, Product owner\\, ČEZ Distribuce\\, a. s.\\n\\n\\nORGANIZAČNÍ POKYNY:\\n\\nDovolujeme si Vás upozornit\\, že setkání je určené pouze členům pracovní skupiny. Účast není spojena s&nbsp\\;žádným finančním příspěvkem.\\nZměna programu vyhrazena.\\nRegistrace končí 21.&nbsp\\;10.&nbsp\\;2025 ve 12:00 hod.\\n\\n\\nREGISTRACE\\n
URL:https://solarniasociace.cz/akce/setkani-pracovni-skupina-pro-stresni-fve/
LOCATION:Botanique Hotel Prague\\, Botanique Hotel Prague\\, Sokolovská\\, Karlín\\, Česko
ORGANIZER;CN="Solární asociace":MAILTO:sekretariat@solarniasociace.cz
END:VEVENT
END:VCALENDAR