BEGIN:VCALENDAR
VERSION:2.0
PRODID:-//Solární asociace - ECPv6.8.2.1//NONSGML v1.0//EN
CALSCALE:GREGORIAN
METHOD:PUBLISH
X-WR-CALNAME:Solární asociace
X-ORIGINAL-URL:https://solarniasociace.cz
X-WR-CALDESC:Akce na Solární asociace
REFRESH-INTERVAL;VALUE=DURATION:PT1H
X-Robots-Tag:noindex
X-PUBLISHED-TTL:PT1H
BEGIN:VTIMEZONE
TZID:Europe/Prague
BEGIN:DAYLIGHT
TZOFFSETFROM:+0100
TZOFFSETTO:+0200
TZNAME:CEST
DTSTART:20270330T010000
END:DAYLIGHT
BEGIN:STANDARD
TZOFFSETFROM:+0200
TZOFFSETTO:+0100
TZNAME:CET
DTSTART:20271026T010000
END:STANDARD
END:VTIMEZONE
BEGIN:VEVENT
DTSTART;TZID=Europe/Prague:20251009T100000
DTEND;TZID=Europe/Prague:20251009T123000
DTSTAMP:20260420T140150
CREATED:20250912T211048Z
LAST-MODIFIED:20250917T223058Z
UID:2144-1760004000-1760013000@solarniasociace.cz
SUMMARY:Odborná exkurze se společností Devinn
DESCRIPTION:Vážení členové a přátelé Solární asociace\\,\\nsrdečně vás zveme na odbornou exkurzi se zástupci Solární asociace do společnosti DEVINN s.r.o. Využijte jedinečné příležitosti nahlédnout do světa moderních technologií a vidět projekty\\, které definují budoucnost obnovitelné energie.\\nObjevte svět vodíku s&nbsp\\;DEVINN!\\nDEVINN je česká inovativní společnost z&nbsp\\;Jablonce nad Nisou\\, která už více než deset let vyvíjí a testuje technologie budoucnosti. Zaměřuje se na udržitelnou energetiku\\, vodíková řešení a vývoj produktů pro automobilový i energetický průmysl. Díky vlastnímu vývojovému centru a prototypové dílně proměňuje vize v&nbsp\\;konkrétní projekty od výroby a skladování vodíku až po mobilní generátory\\, plnicí stanice a testovací pracoviště.\\nCo nás čeká?\\n\\nÚvod do vodíkové tématiky a následná ukázka vodíkového hospodářství.\\nSpolečností nás provede Irena Stupková\\, Marketing\\, Jan Mašek\\, Sales Engineer\\, a Petr Jeniš\\, Vedoucí prototypové výroby.\\n\\nREGISTRACE\\n\\nOstatní informace\\n\\nPočet účastníků je omezený\\, doporučujeme Vám proto včasnou registraci.\\nDoprava na exkurzi je vlastní.\\nRegistrace končí 7.&nbsp\\;října 2025 v&nbsp\\;15:00.\\nSvou účast prosím potvrďte pomocí registračního formuláře uvedeného níže. Potvrzení Vám dorazí na zadaný e-mail.\\nExkurze je určena pro členy Solární asociace a je zdarma.\\n\\n
URL:https://solarniasociace.cz/akce/odborna-exkurze-se-spolecnosti-devinn/
LOCATION:DEVINN\\, DEVINN\\, Skřivánčí\\, Jablonec nad Nisou 1\\, Česko
ORGANIZER;CN="Solární asociace":MAILTO:sekretariat@solarniasociace.cz
END:VEVENT
END:VCALENDAR