BEGIN:VCALENDAR
VERSION:2.0
PRODID:-//Solární asociace - ECPv6.8.2.1//NONSGML v1.0//EN
CALSCALE:GREGORIAN
METHOD:PUBLISH
X-WR-CALNAME:Solární asociace
X-ORIGINAL-URL:https://solarniasociace.cz
X-WR-CALDESC:Akce na Solární asociace
REFRESH-INTERVAL;VALUE=DURATION:PT1H
X-Robots-Tag:noindex
X-PUBLISHED-TTL:PT1H
BEGIN:VTIMEZONE
TZID:Europe/Prague
BEGIN:DAYLIGHT
TZOFFSETFROM:+0100
TZOFFSETTO:+0200
TZNAME:CEST
DTSTART:20270330T010000
END:DAYLIGHT
BEGIN:STANDARD
TZOFFSETFROM:+0200
TZOFFSETTO:+0100
TZNAME:CET
DTSTART:20271026T010000
END:STANDARD
END:VTIMEZONE
BEGIN:VEVENT
DTSTART;TZID=Europe/Prague:20260122T093000
DTEND;TZID=Europe/Prague:20260122T190000
DTSTAMP:20260420T093444
CREATED:20251210T130450Z
LAST-MODIFIED:20251210T130630Z
UID:2540-1769074200-1769108400@solarniasociace.cz
SUMMARY:Konference: Power Shift &#8211\\; cesty k&nbsp\\;odolné a bezpečné  energetice
DESCRIPTION:Dovolujeme si Vás pozvat na první ročník konference POWER SHIFT\\, kterou pořádá Svaz moderní energetiky ve spolupráci s ČSOB a odborným partnerem BCG. Setkání proběhne 22.&nbsp\\;ledna 2026 od 9:30 v&nbsp\\;prostorách ČSOB Kampus Radlická\\, Praha 5.\\nPřipojte se k&nbsp\\;diskusi o klíčových výzvách a příležitostech\\, které formují budoucnost české energetiky. Konference propojí přední odborníky\\, investory\\, regulátory i technologické lídry a nabídne prostor pro otevřený dialog i hledání řešení.\\n\\nO čem bude řeč?\\n1. STRATEGIE PRO ENERGETICKOU BEZPEČNOST ČESKA\\nPanel s&nbsp\\;Karlem Havlíčkem (hnutí ANO\\, kandidát na ministra průmyslu a obchodu)\\, Markem Loulou (ČSOB)\\, Zuzanou Krejčiříkovou (ČEZ)\\, Josefem Kotrbou (Svaz energetiky ČR) a Martinem Sedlákem (Svaz moderní energetiky)\\n2. CESTA K&nbsp\\;ODOLNÝM SÍTÍM\\nOdborný blok s&nbsp\\;prezentací Erika Hrušce (partner BCG) a panelovou debatou zástupců ČEPS\\, ČEZ\\, MPO\\, ERÚ a SolarEdge\\n3. AKCELERACE ZELENÉ ENERGIE\\nZkušenosti a příležitosti s&nbsp\\;rozvojem velkých OZE představím zástupci MŽP a firem Decci\\, Solar Global\\, JRD a dalších.\\n4. FINANCOVÁNÍ MODERNÍ ENERGETIKY\\nJak financovat proměnu energetiky tak\\, aby stála na předvídatelných a smluplných základech\\, napoví panel zástupců finančního sektoru a státní správy: experti ČSOB\\, Ministerstva financí\\, zkušenosti investorů i aktualizovaný rámec Modernizačního fondu od SFŽP.\\n5. Networking po akci – neformální diskuse u číše vína\\n\\nPro členy Solární asociace\\nFirmy členských asociací mohou do 12.&nbsp\\;12.&nbsp\\;25 využít promokod SMECL40 na slevu 40%\\, následně lze vstupy zakoupit za ceny dle ceníku viz www.powershift.cz.\\n\\nVstupenky a další informace naleznete na www.powershift.cz.\\n&nbsp\\;\\n
URL:https://solarniasociace.cz/akce/konference-power-shift-cesty-k-odolne-a-bezpecne-energetice/
LOCATION:NHQ Centrála ČSOB\\, NHQ Centrála ČSOB\\, Radlická\\, Praha 5\\, Česko
END:VEVENT
END:VCALENDAR