BEGIN:VCALENDAR
VERSION:2.0
PRODID:-//Solární asociace - ECPv6.8.2.1//NONSGML v1.0//EN
CALSCALE:GREGORIAN
METHOD:PUBLISH
X-WR-CALNAME:Solární asociace
X-ORIGINAL-URL:https://solarniasociace.cz
X-WR-CALDESC:Akce na Solární asociace
REFRESH-INTERVAL;VALUE=DURATION:PT1H
X-Robots-Tag:noindex
X-PUBLISHED-TTL:PT1H
BEGIN:VTIMEZONE
TZID:Europe/Prague
BEGIN:DAYLIGHT
TZOFFSETFROM:+0100
TZOFFSETTO:+0200
TZNAME:CEST
DTSTART:20270330T010000
END:DAYLIGHT
BEGIN:STANDARD
TZOFFSETFROM:+0200
TZOFFSETTO:+0100
TZNAME:CET
DTSTART:20271026T010000
END:STANDARD
END:VTIMEZONE
BEGIN:VEVENT
DTSTART;TZID=Europe/Prague:20260324T083000
DTEND;TZID=Europe/Prague:20260324T170000
DTSTAMP:20260420T062354
CREATED:20260223T193726Z
LAST-MODIFIED:20260223T193746Z
UID:2755-1774341000-1774371600@solarniasociace.cz
SUMMARY:25.&nbsp\\;energetický kongres ČR: Power in Motion
DESCRIPTION:Česká energetika vstupuje do klíčové fáze transformace – poháněné dekarbonizací\\, decentralizací a digitalizací. Čekají nás obří investice\\, zásadní změny v&nbsp\\;provozu sítí i regulaci a tlak na bezpečnost dodávek i ceny energií. \\nKongres otevře odbornou diskusi o investičních prioritách\\, roli technologií\\, regulaci a skutečných nákladech transformace. Přijďte diskutovat klíčové otázky energetického roku 2026 s&nbsp\\;lídry české energetiky.\\nBuďte u debat\\, které nastavují směr české energetiky.\\nNa akci vystoupí i Jan Fousek\\, předseda představenstva Solární asociace a výkonný ředitel AKU-BAT.\\n\\nInformace ke vstupenkám a další informace ke kongresu se můžete dozvědět na webových stránkách ZDE.\\n
URL:https://solarniasociace.cz/akce/business-forum-25-energeticky-kongres-cr/
LOCATION:Grandium Hotel Prague\\, Hotel Grandium Prague\\, Politických vězňů\\, Nové Město\\, Česko
END:VEVENT
END:VCALENDAR